BEGIN:VCALENDAR
VERSION:2.0
PRODID:-//Vino y Compañía - ECPv6.15.20//NONSGML v1.0//EN
CALSCALE:GREGORIAN
METHOD:PUBLISH
X-ORIGINAL-URL:https://vinoycompania.com
X-WR-CALDESC:Eventos para Vino y Compañía
REFRESH-INTERVAL;VALUE=DURATION:PT1H
X-Robots-Tag:noindex
X-PUBLISHED-TTL:PT1H
BEGIN:VTIMEZONE
TZID:Europe/Madrid
BEGIN:DAYLIGHT
TZOFFSETFROM:+0100
TZOFFSETTO:+0200
TZNAME:CEST
DTSTART:20240331T010000
END:DAYLIGHT
BEGIN:STANDARD
TZOFFSETFROM:+0200
TZOFFSETTO:+0100
TZNAME:CET
DTSTART:20241027T010000
END:STANDARD
BEGIN:DAYLIGHT
TZOFFSETFROM:+0100
TZOFFSETTO:+0200
TZNAME:CEST
DTSTART:20250330T010000
END:DAYLIGHT
BEGIN:STANDARD
TZOFFSETFROM:+0200
TZOFFSETTO:+0100
TZNAME:CET
DTSTART:20251026T010000
END:STANDARD
BEGIN:DAYLIGHT
TZOFFSETFROM:+0100
TZOFFSETTO:+0200
TZNAME:CEST
DTSTART:20260329T010000
END:DAYLIGHT
BEGIN:STANDARD
TZOFFSETFROM:+0200
TZOFFSETTO:+0100
TZNAME:CET
DTSTART:20261025T010000
END:STANDARD
END:VTIMEZONE
BEGIN:VEVENT
DTSTART;TZID=Europe/Madrid:20251124T200000
DTEND;TZID=Europe/Madrid:20251124T220000
DTSTAMP:20260421T181601
CREATED:20251029T131248Z
LAST-MODIFIED:20251029T131325Z
UID:10001416-1764014400-1764021600@vinoycompania.com
SUMMARY:🍷 VINO & COMPAÑÍA PRESENTA Il Marroneto: La Esencia del Brunello di Montalcino
DESCRIPTION:🗓 Lunes 24 de noviembre | 🕗 20:00h📍 Sala de Catas de Vino & Compañía\, Plaza de Olavide 5\, Chamberí (Madrid)🎟 50 € por persona | 👥 Aforo exclusivo: 36 personas \n\nUna noche dedicada al alma del Sangiovese\nHay vinos que nacen para emocionar… y luego está Il Marroneto\, una bodega que ha elevado el arte del Brunello di Montalcino a su forma más pura.En esta cata única\, recorreremos una vertical de tres añadas de sus dos vinos más emblemáticos:🍇 Brunello di Montalcino y🌿 Madonna delle Grazie\, su vino más icónico. \nUna experiencia diseñada para quienes buscan comprender cómo el tiempo\, el suelo y la mano del hombre se entrelazan en una botella que trasciende generaciones. \n\n🕰️ Il Marroneto: historia\, legado y precisión\nFundada en 1974 por Giuseppe Mori\, Il Marroneto comenzó su historia en un antiguo secadero de castañas (el marroneto) reconvertido en bodega. Hoy\, su hijo Alessandro Mori\, junto a Iacopo\, ha llevado esta finca a lo más alto del mapa vinícola mundial\, compartiendo podio con nombres legendarios como Biondi-Santi\, Soldera o Salvioni. \nSus 10 hectáreas en la cara norte de Montalcino se asientan sobre suelos calcáreos y arenosos\, donde el Sangiovese alcanza una expresión de elegancia\, tensión y profundidad inigualables.La viticultura es orgánica\, viva y respetuosa\, con rendimientos controlados\, fermentaciones espontáneas y crianza en grandes toneles de roble de Eslavonia. \nNada se fuerza. Todo fluye.Así nacen los vinos que definen la pureza moderna del Brunello. \n\n🍷 Brunello & Madonna delle Grazie: dos almas\, una filosofía\nEl Brunello di Montalcino de Il Marroneto encarna la elegancia clásica: taninos sedosos\, perfume floral\, equilibrio y una profundidad que solo el tiempo revela.Mientras tanto\, Madonna delle Grazie\, procedente de las viñas que rodean la bodega\, representa su versión más intensa y espiritual\, nacida de suelos pobres\, vides viejas y una precisión casi artesanal. \nEn esta cata\, viajaremos a través de tres añadas de cada vino\, descubriendo cómo evoluciona la identidad de la finca año tras año. Una oportunidad única para degustar el tiempo embotellado. \n\n🌿 Una filosofía basada en la autenticidad\nEn palabras de Alessandro Mori\, \n\n“No hacemos vino para seguir una moda. Lo hacemos para que la tierra hable.” \n\nSu visión es radicalmente sencilla: viticultura respetuosa\, mínima intervención y máxima expresión del terroir.En Il Marroneto\, cada vendimia es una conversación entre el hombre\, la planta y la tierra.Esa pureza se siente en cada copa: vibrante\, elegante\, eterna. \n\n💫 Por qué no puedes perderte esta cata\nPorque vivirás una vertical histórica de uno de los Brunellos más codiciados del mundo. \nPorque entenderás por qué Il Marroneto está redefiniendo el concepto de autenticidad en Montalcino. \nPorque disfrutarás de una experiencia sensorial íntima y exclusiva junto a otros amantes del vino. \nPorque hay botellas que no se abren dos veces. \n\n🥂 Reserva tu plaza antes de que se agoten\nSolo 36 personas podrán formar parte de esta noche inolvidable.Una cita con la historia\, la emoción y el vino en su máxima expresión. \n👇 Asegura tu plaza ahora y brinda con nosotros. \n¡Salud! 🍷 \n#BrunelloDiMontalcino #IlMarroneto #CataDeVinos #vinoycompania #WineExperience #consumoconsciente
URL:https://vinoycompania.com/eventos/%f0%9f%8d%b7-vino-compania-presenta-il-marroneto-la-esencia-del-brunello-di-montalcino/
LOCATION:Vino & Compañia\, Plaza de Olavide\, 5\, Chamberí\, Madrid\, Madrid\, 28010\, España
CATEGORIES:Cata con Bodega
ATTACH;FMTTYPE=image/jpeg:https://vinoycompania.com/wp-content/uploads/2025/10/Marroneto-vigne.jpg
ORGANIZER;CN="Vino & Compa%C3%B1ia":MAILTO:catas@vinoycompania.com
END:VEVENT
END:VCALENDAR