BEGIN:VCALENDAR
VERSION:2.0
PRODID:-//Vino y Compañía - ECPv6.15.20//NONSGML v1.0//EN
CALSCALE:GREGORIAN
METHOD:PUBLISH
X-WR-CALNAME:Vino y Compañía
X-ORIGINAL-URL:https://vinoycompania.com
X-WR-CALDESC:Eventos para Vino y Compañía
REFRESH-INTERVAL;VALUE=DURATION:PT1H
X-Robots-Tag:noindex
X-PUBLISHED-TTL:PT1H
BEGIN:VTIMEZONE
TZID:Europe/Madrid
BEGIN:DAYLIGHT
TZOFFSETFROM:+0100
TZOFFSETTO:+0200
TZNAME:CEST
DTSTART:20240331T010000
END:DAYLIGHT
BEGIN:STANDARD
TZOFFSETFROM:+0200
TZOFFSETTO:+0100
TZNAME:CET
DTSTART:20241027T010000
END:STANDARD
BEGIN:DAYLIGHT
TZOFFSETFROM:+0100
TZOFFSETTO:+0200
TZNAME:CEST
DTSTART:20250330T010000
END:DAYLIGHT
BEGIN:STANDARD
TZOFFSETFROM:+0200
TZOFFSETTO:+0100
TZNAME:CET
DTSTART:20251026T010000
END:STANDARD
BEGIN:DAYLIGHT
TZOFFSETFROM:+0100
TZOFFSETTO:+0200
TZNAME:CEST
DTSTART:20260329T010000
END:DAYLIGHT
BEGIN:STANDARD
TZOFFSETFROM:+0200
TZOFFSETTO:+0100
TZNAME:CET
DTSTART:20261025T010000
END:STANDARD
END:VTIMEZONE
BEGIN:VEVENT
DTSTART;TZID=Europe/Madrid:20250729T200000
DTEND;TZID=Europe/Madrid:20250729T220000
DTSTAMP:20260423T002841
CREATED:20250625T153906Z
LAST-MODIFIED:20250728T181800Z
UID:10001389-1753819200-1753826400@vinoycompania.com
SUMMARY:Vinos Veraniegos con Santi Rivas (Colectivo Decantado) 🍷☀️
DESCRIPTION:📅 Fecha: Martes 29 de julio de 2025\n🕗 Hora: 20:00 h\n📍 Lugar: Sala de Catas de Vino & Compañía\, Plaza de Olavide 5\, Chamberí (Madrid)\n💶 Precio: 50 € por persona\n🔒 Plazas limitadas: 36 asistentes \n\n🌟 El verano tiene otras coordenadas (y no son las que imaginas)\nCuando escuchas “vino veraniego”\, seguro que piensas en vinos ligeros\, simples\, fáciles… Olvídalo.\nSanti Rivas\, el provocador más querido del mundo del vino\, viene a desmontar ese mito con una selección que es puro carácter\, origen y nivelazo absoluto. \n\n🍇 Vinos hechos donde tú veraneas\nMallorca\, Cádiz\, Portugal\, California…\nSanti nos propone un viaje con vinos que nacen en lugares vacacionales\, pero no tienen nada de frívolos:\nson profundos\, brillantes\, elegantes y con un sentido del lugar que no entiende de clichés. \nUna selección personal de vinazos que te llevará por calas\, acantilados y viñedos bañados por la brisa del mar…    y todo sin moverte de Madrid. \n\n🧠 ¿Por qué no puedes faltar?\n🏖️ Porque el 29 de julio en el centro de Madrid es el mejor plan que puedes hacer (en el caso que no te hayas ido de vacaciones todavía…) \n🎙️ Porque Santi no solo cata\, cuenta\, conecta y remueve \n🍷 Porque vas a descubrir vinos de zonas de postal que no sabías que eran tan serias \n🔍 Porque esta cata no va de frescura\, sino de fondo\, origen y mucha intención \n☀️ Y\, si no son razones suficientes\, en Vino & Compañía tenemos siempre la tienda a 19 º Centígrados (trae una rebeca 😉) \n\n👨‍🏫 Sobre Santi Rivas\nSanti Rivas (@colectivodecantado) es uno de los divulgadores de vino más influyentes de España.\nColaborador habitual de medios como Sobremesa\, La SER\, El País o Esquire\, autor de dos libros (“Vinos Gentrificados” y “Deja todo o deja el vino”)\, y conocido por su estilo directo\, crítico y profundamente documentado.\nEsta cata forma parte de nuestra serie Catas Con Personaje\, y pocas veces el personaje ha sido tan potente. \n\n🎟 Reserva tu plaza\nVerano y vino\, sí. Pero como nunca lo habías vivido. \n👉 Reserva ya tu plaza y acompáñanos en una cata con sabor a mar y a paisaje. \n  \n¡Salud! 🍷 \n  \n#VinosVeraniegos #CataConPersonaje #SantiRivas #ColectivoDecantado #Vinazo #VinoYCultura
URL:https://vinoycompania.com/eventos/vinos-veraniegos-con-santi-rivas-colectivo-decantado-%f0%9f%8d%b7%e2%98%80%ef%b8%8f/
LOCATION:Vino & Compañia\, Plaza de Olavide\, 5\, Chamberí\, Madrid\, Madrid\, 28010\, España
CATEGORIES:Cata con Personaje
ATTACH;FMTTYPE=image/jpeg:https://vinoycompania.com/wp-content/uploads/2025/06/SANTI-scaled.jpg
ORGANIZER;CN="Vino & Compa%C3%B1ia":MAILTO:catas@vinoycompania.com
END:VEVENT
END:VCALENDAR