BEGIN:VCALENDAR
VERSION:2.0
PRODID:-//Vino y Compañía - ECPv6.15.20//NONSGML v1.0//EN
CALSCALE:GREGORIAN
METHOD:PUBLISH
X-ORIGINAL-URL:https://vinoycompania.com
X-WR-CALDESC:Eventos para Vino y Compañía
REFRESH-INTERVAL;VALUE=DURATION:PT1H
X-Robots-Tag:noindex
X-PUBLISHED-TTL:PT1H
BEGIN:VTIMEZONE
TZID:Europe/Madrid
BEGIN:DAYLIGHT
TZOFFSETFROM:+0100
TZOFFSETTO:+0200
TZNAME:CEST
DTSTART:20240331T010000
END:DAYLIGHT
BEGIN:STANDARD
TZOFFSETFROM:+0200
TZOFFSETTO:+0100
TZNAME:CET
DTSTART:20241027T010000
END:STANDARD
BEGIN:DAYLIGHT
TZOFFSETFROM:+0100
TZOFFSETTO:+0200
TZNAME:CEST
DTSTART:20250330T010000
END:DAYLIGHT
BEGIN:STANDARD
TZOFFSETFROM:+0200
TZOFFSETTO:+0100
TZNAME:CET
DTSTART:20251026T010000
END:STANDARD
BEGIN:DAYLIGHT
TZOFFSETFROM:+0100
TZOFFSETTO:+0200
TZNAME:CEST
DTSTART:20260329T010000
END:DAYLIGHT
BEGIN:STANDARD
TZOFFSETFROM:+0200
TZOFFSETTO:+0100
TZNAME:CET
DTSTART:20261025T010000
END:STANDARD
END:VTIMEZONE
BEGIN:VEVENT
DTSTART;TZID=Europe/Madrid:20250612T200000
DTEND;TZID=Europe/Madrid:20250612T220000
DTSTAMP:20260420T030158
CREATED:20250311T175240Z
LAST-MODIFIED:20250423T121543Z
UID:10001322-1749758400-1749765600@vinoycompania.com
SUMMARY:🍷 Cata Horizontal Artadi 2022 con Carlos López de Lacalle
DESCRIPTION:📅 Fecha y hora: Jueves 12 de junio de 2025 a las 20:00 h📍 Lugar: Sala de Catas de Vino & Compañía\, Plaza de Olavide nº 5\, Chamberí (Madrid)💶 Precio: 50 € por persona🔒 Plazas limitadas: 36 asistentes \n🌟 Una cita con la grandeza de Rioja Alavesa\nTener a Carlos López de Lacalle en nuestra sala de catas no es algo que ocurra todos los días. Nos visita el alma de Bodega Artadi\, uno de los nombres más influyentes del vino español\, para presentarnos la cosecha 2022 al completo: una selección de vinos de parcela que define lo que significa el origen\, la identidad y el carácter. \nUna cata irrepetible que nos hace especial ilusión compartir contigo. \n🍇 La cosecha 2022: nueve vinos que narran su paisaje\nPrepárate para recorrer viñedos excepcionales a través de una cata horizontal diseñada para emocionarte. Estos son los vinos que degustaremos: \nViñas de Gain Blanco 2020 (el único vino de la noche que no es 2022 pero siempre buena elección para ver la evolución de un gran blanco) \nViñas de Gain Tinto 2022 \nLa Hoya 2022 \nQuintanilla 2022 \nLa Poza de Ballesteros 2022 \nValdeginés 2022 \nSan Lázaro 2022 \nEl Carretil 2022 \nViña El Pisón 2022 \nCada uno de ellos cuenta una historia distinta\, marcada por el viñedo\, el suelo y la mano de quienes entienden que el vino es cultura viva. \n\n🧠 ¿Qué vas a vivir en esta cata?\n– Un recorrido sensorial y didáctico por la personalidad de cada parcela. \n– Un diálogo directo con Carlos López de Lacalle\, una de las voces más respetadas del vino en nuestro país. \n– Una oportunidad de degustar Viña El Pisón\, uno de los grandes vinos de culto del panorama internacional. \n– Un ambiente cuidado\, íntimo y apasionado\, como solo sabemos crear en Vino & Compañía. \n🎟 Reserva tu plaza\nEsta cata es única y exclusiva. Solo 36 personas podrán vivir esta experiencia. Si aprecias los grandes vinos\, la precisión enológica y la emoción del origen\, este evento es para ti. \n👉Reserva tu plaza ya y forma parte de una noche histórica para los amantes del vino. \n#Artadi #ViñaElPisón #CataDeVino #VinoDeParcela #VinoYCultura #WineLovers \n¿Listo para escuchar cómo suena el 2022 en la voz del terroir?
URL:https://vinoycompania.com/eventos/%f0%9f%8d%b7-cata-horizontal-artadi-2022-con-carlos-lopez-de-lacalle/
LOCATION:Vino & Compañia\, Plaza de Olavide\, 5\, Chamberí\, Madrid\, Madrid\, 28010\, España
CATEGORIES:Cata con Bodega
ATTACH;FMTTYPE=image/jpeg:https://vinoycompania.com/wp-content/uploads/2025/03/ARTADI-VENDIMIA-2023-89-scaled.jpg
ORGANIZER;CN="Vino & Compa%C3%B1ia":MAILTO:catas@vinoycompania.com
END:VEVENT
END:VCALENDAR