BEGIN:VCALENDAR
VERSION:2.0
PRODID:-//Vino y Compañía - ECPv6.15.20//NONSGML v1.0//EN
CALSCALE:GREGORIAN
METHOD:PUBLISH
X-WR-CALNAME:Vino y Compañía
X-ORIGINAL-URL:https://vinoycompania.com
X-WR-CALDESC:Eventos para Vino y Compañía
REFRESH-INTERVAL;VALUE=DURATION:PT1H
X-Robots-Tag:noindex
X-PUBLISHED-TTL:PT1H
BEGIN:VTIMEZONE
TZID:Europe/Madrid
BEGIN:DAYLIGHT
TZOFFSETFROM:+0100
TZOFFSETTO:+0200
TZNAME:CEST
DTSTART:20240331T010000
END:DAYLIGHT
BEGIN:STANDARD
TZOFFSETFROM:+0200
TZOFFSETTO:+0100
TZNAME:CET
DTSTART:20241027T010000
END:STANDARD
BEGIN:DAYLIGHT
TZOFFSETFROM:+0100
TZOFFSETTO:+0200
TZNAME:CEST
DTSTART:20250330T010000
END:DAYLIGHT
BEGIN:STANDARD
TZOFFSETFROM:+0200
TZOFFSETTO:+0100
TZNAME:CET
DTSTART:20251026T010000
END:STANDARD
BEGIN:DAYLIGHT
TZOFFSETFROM:+0100
TZOFFSETTO:+0200
TZNAME:CEST
DTSTART:20260329T010000
END:DAYLIGHT
BEGIN:STANDARD
TZOFFSETFROM:+0200
TZOFFSETTO:+0100
TZNAME:CET
DTSTART:20261025T010000
END:STANDARD
END:VTIMEZONE
BEGIN:VEVENT
DTSTART;TZID=Europe/Madrid:20250828T200000
DTEND;TZID=Europe/Madrid:20250828T220000
DTSTAMP:20260420T000544
CREATED:20250818T143358Z
LAST-MODIFIED:20250818T143358Z
UID:10001399-1756411200-1756418400@vinoycompania.com
SUMMARY:Cata DESPARCHADOS 3.0🍷
DESCRIPTION:🍷 VINO & COMPAÑÍA PRESENTA\nDESPARCHADOS 3.0\nLa trilogía definitiva de los que resisten en Madrid en agosto \n🗓 Jueves 28 de agosto | 🕗 20:00h\n📍 Sala de Catas de Vino & Compañía\, Plaza de Olavide 5\, Chamberí (Madrid)\n🎟 50€ por persona | Aforo exclusivo: 12 plazas \n  \nMadrid\, última semana de agosto… \nCuando pensabas que ya lo habías visto todo\, vuelve la cata más inesperada del verano.\nDespués del éxito de las dos primeras ediciones\, Despachados 3.0 llega para cerrar agosto por todo lo alto.\nSi todavía sigues en la ciudad\, este es tu plan: brindar\, reír y descubrir vinos que nunca habías imaginado. \n  \n✨ Una cata secreta… y a ciegas \nAndrés\, alma de Vino & Compañía\, vuelve a abrir nuestra cava de guarda para elegir 6 vinos únicos que degustaremos a ciegas.\nNo hay programa\, no hay guion\, no hay etiquetas predefinidas… solo la magia de lo inesperado y la emoción de dejarse sorprender copa tras copa. \n  \n🔥 Lo que hace diferente a Desparchados 3.0 \nNo es una cata formal.\nNo es un evento programado.\nEs una noche que nace del momento\, pensada para quienes quieren darle un giro al verano y hacer que Madrid se convierta en el mejor destino. \nEs para ti si:\n🏙 Estás sobreviviendo al calor de agosto en Madrid.\n🛋 No soportas otra noche igual en casa.\n🍇 Te encanta descubrir vinos únicos.\n🥂 Crees que la mejor compañía es la que brinda contigo. \n  \n🚨 Solo 12 desparchados tendrán su plaza.\nNo te lo pienses demasiado: reserva ahora y únete al cierre más épico del verano. \n¡Salud! 🍷 \n#Desparchado #WineLovers #CataDeVinos #MadridEnAgosto #vinoycompania #VinoYResistencia #consumoconsciente
URL:https://vinoycompania.com/eventos/desparchados-3-0%f0%9f%8d%b7/
LOCATION:Vino & Compañia\, Plaza de Olavide\, 5\, Chamberí\, Madrid\, Madrid\, 28010\, España
CATEGORIES:Cata con Personaje
ATTACH;FMTTYPE=image/jpeg:https://vinoycompania.com/wp-content/uploads/2025/08/IMG_6530.jpg
ORGANIZER;CN="Vino & Compa%C3%B1ia":MAILTO:catas@vinoycompania.com
END:VEVENT
END:VCALENDAR