BEGIN:VCALENDAR
VERSION:2.0
PRODID:-//Vino y Compañía - ECPv6.15.20//NONSGML v1.0//EN
CALSCALE:GREGORIAN
METHOD:PUBLISH
X-WR-CALNAME:Vino y Compañía
X-ORIGINAL-URL:https://vinoycompania.com
X-WR-CALDESC:Eventos para Vino y Compañía
REFRESH-INTERVAL;VALUE=DURATION:PT1H
X-Robots-Tag:noindex
X-PUBLISHED-TTL:PT1H
BEGIN:VTIMEZONE
TZID:Europe/Madrid
BEGIN:DAYLIGHT
TZOFFSETFROM:+0100
TZOFFSETTO:+0200
TZNAME:CEST
DTSTART:20240331T010000
END:DAYLIGHT
BEGIN:STANDARD
TZOFFSETFROM:+0200
TZOFFSETTO:+0100
TZNAME:CET
DTSTART:20241027T010000
END:STANDARD
BEGIN:DAYLIGHT
TZOFFSETFROM:+0100
TZOFFSETTO:+0200
TZNAME:CEST
DTSTART:20250330T010000
END:DAYLIGHT
BEGIN:STANDARD
TZOFFSETFROM:+0200
TZOFFSETTO:+0100
TZNAME:CET
DTSTART:20251026T010000
END:STANDARD
BEGIN:DAYLIGHT
TZOFFSETFROM:+0100
TZOFFSETTO:+0200
TZNAME:CEST
DTSTART:20260329T010000
END:DAYLIGHT
BEGIN:STANDARD
TZOFFSETFROM:+0200
TZOFFSETTO:+0100
TZNAME:CET
DTSTART:20261025T010000
END:STANDARD
END:VTIMEZONE
BEGIN:VEVENT
DTSTART;TZID=Europe/Madrid:20250821T200000
DTEND;TZID=Europe/Madrid:20250821T220000
DTSTAMP:20260420T000452
CREATED:20250814T085714Z
LAST-MODIFIED:20250814T085714Z
UID:10001398-1755806400-1755813600@vinoycompania.com
SUMMARY:DESPARCHADOS 2.0🍷
DESCRIPTION:🍷 VINO & COMPAÑÍA PRESENTADESPARCHADOS 2.0La revancha de los que se quedan en Madrid en agosto \n🗓 Jueves 21 de agosto | 🕗 20:00h📍 Sala de Catas de Vino & Compañía\, Plaza de Olavide 5\, Chamberí (Madrid)🎟 50€ por persona | Aforo muy limitado a 12 personas \n\nMadrid\, segunda quincena de agosto…\nLo sabemos: siguen las calles medio vacías\, el calor pegando fuerte\, los grupos de WhatsApp en silencio y esa sensación de que la ciudad entera está en la costa… menos tú. \nPero esta vez no nos pilla de sorpresa. Después del éxito de la primera edición\, Desparchados vuelve con más ganas que nunca.Despachados 2.0 es nuestra manera de decirte: no te quedes en casa otra noche más de verano\, vente a brindar. \n\nUna cata sin guion… pero con mucho vino 🍷\nEn esta segunda edición\, Andrés (el alma de Vino & Compañía) vuelve a colarse en la cava de guarda para rescatar 6 vinos únicos que vamos a catar a ciegas.No hay lista previa\, no hay presentación formal… solo etiquetas sorprendentes que quizá no iban a ver la luz esta noche\, pero que van a estar ahí para sacarte una sonrisa y alegrarte el agosto. \n\nLo que te espera\nNo es un evento formal. No es una cata de escuela.Es un plan espontáneo\, divertido y con el ambiente que solo se da cuando un grupo reducido se reúne para compartir algo especial. \nEs para ti si:🏙 Estás sobreviviendo a Madrid en agosto🛋 No quieres otra noche aburrida en casa✨ Crees que un buen vino puede cambiarlo todo🍇 Disfrutas probando vinos que no esperabas \n\nSolo para 12 desparchados listos para brindar 🥂\nReserva ahora tu plaza para Despachados 2.0 y haz que este jueves sea diferente. \n¡Salud! 🍷 \n#Desparchado #WineLovers #CataDeVinos #MadridEnAgosto #vinoycompania #VinoYResistencia #consumoconsciente
URL:https://vinoycompania.com/eventos/desparchados-2-0%f0%9f%8d%b7/
LOCATION:Vino & Compañia\, Plaza de Olavide\, 5\, Chamberí\, Madrid\, Madrid\, 28010\, España
CATEGORIES:Cata con Personaje
ATTACH;FMTTYPE=image/jpeg:https://vinoycompania.com/wp-content/uploads/2025/06/foto-scaled.jpg
ORGANIZER;CN="Vino & Compa%C3%B1ia":MAILTO:catas@vinoycompania.com
END:VEVENT
END:VCALENDAR