BEGIN:VCALENDAR
VERSION:2.0
PRODID:-//Vino y Compañía - ECPv6.15.20//NONSGML v1.0//EN
CALSCALE:GREGORIAN
METHOD:PUBLISH
X-ORIGINAL-URL:https://vinoycompania.com
X-WR-CALDESC:Eventos para Vino y Compañía
REFRESH-INTERVAL;VALUE=DURATION:PT1H
X-Robots-Tag:noindex
X-PUBLISHED-TTL:PT1H
BEGIN:VTIMEZONE
TZID:Europe/Madrid
BEGIN:DAYLIGHT
TZOFFSETFROM:+0100
TZOFFSETTO:+0200
TZNAME:CEST
DTSTART:20240331T010000
END:DAYLIGHT
BEGIN:STANDARD
TZOFFSETFROM:+0200
TZOFFSETTO:+0100
TZNAME:CET
DTSTART:20241027T010000
END:STANDARD
BEGIN:DAYLIGHT
TZOFFSETFROM:+0100
TZOFFSETTO:+0200
TZNAME:CEST
DTSTART:20250330T010000
END:DAYLIGHT
BEGIN:STANDARD
TZOFFSETFROM:+0200
TZOFFSETTO:+0100
TZNAME:CET
DTSTART:20251026T010000
END:STANDARD
BEGIN:DAYLIGHT
TZOFFSETFROM:+0100
TZOFFSETTO:+0200
TZNAME:CEST
DTSTART:20260329T010000
END:DAYLIGHT
BEGIN:STANDARD
TZOFFSETFROM:+0200
TZOFFSETTO:+0100
TZNAME:CET
DTSTART:20261025T010000
END:STANDARD
END:VTIMEZONE
BEGIN:VEVENT
DTSTART;TZID=Europe/Madrid:20250806T180000
DTEND;TZID=Europe/Madrid:20250806T230000
DTSTAMP:20260420T000629
CREATED:20250725T152223Z
LAST-MODIFIED:20250806T101824Z
UID:10001392-1754503200-1754521200@vinoycompania.com
SUMMARY:🍷 ¡Feria de Vinos 15º Aniversario en Vino & Compañía!
DESCRIPTION:Celebramos nuestros 15 años como mejor sabemos: brindando juntos  \n📅 Fecha: Miércoles 6 de agosto de 2025\n🕕 Hora: A partir de las 18:00 h\n📍 Lugar: Sala de Catas de Vino & Compañía\n📍 Plaza de Olavide 5\, Chamberí (Madrid)\n💶 Precio: 50 € por persona\n🎟 Aforo limitado – Reserva imprescindible \n  \n🎉 15 años de vino\, historias y emoción.\nY esta vez\, la fiesta la hacemos en casa… \nVino & Compañía cumple 15 años y queremos celebrarlo contigo en un evento muy especial:\nnuestra primera Feria de Vinos\, una tarde para disfrutar\, brindar y reencontrarnos con todos los que habéis hecho este viaje posible. \nConvertimos nuestra Sala de Catas y La Destilería en un gran salón de vino\, con muchas bodegas y distribuidores amigos que vendrán a compartir sus mejores botellas.\nHabrá puestos para catar\, charlar y descubrir sin prisa\, como en las ferias de siempre… pero con mucho vino del bueno. \nY por supuesto\, no faltará el maridaje:\n🎯 contaremos con un mostrador especial de quesos y embutidos como los de nuestras catas de los sábados\, seleccionados para armonizar a la perfección con los vinos del evento. \n\n🍇 ¿Qué vas a encontrar?\n\nMuchos vinos diferentes para descubrir a tu ritmo\nBodegas y distribuidores de primer nivel que forman parte de nuestra historia\nUn mostrador de quesos y embutidos de primera calidad\nUn ambiente informal\, divertido y muy Vino & Compañía\nEl plan perfecto para brindar por estos 15 años… y por los que vienen\n\n\n👋 ¿Quién debería venir?\n\nSi llevas tiempo con nosotros\, esta feria también es un homenaje a ti\nSi te apasiona el vino\, aquí vas a probar etiquetas inolvidables\nSi quieres conocer proyectos únicos de la mano de sus protagonistas\nY si simplemente te apetece disfrutar de una tarde mágica con copa en mano\n\n\n🎟 Reserva tu entrada\n👉 Y acompáñanos en este evento histórico para nuestra casa (La primera vez que organizamos algo parecido…) \nIncluye acceso completo a la feria\, degustación libre de vinos y acceso al mostrador de quesos y embutidos.\nAforo limitado. \n  \nUna copa. Muchas botellas. Quesos\, risas y recuerdos. \nNos vemos en la feria. 🧀 \n¡Salud! 🍷 \n  \n#FeriaDeVinos #15AñosVinoYCompañía #CataDeVinos #WineTastingMadrid #VinoYCultura #WineEvent \n 
URL:https://vinoycompania.com/eventos/%f0%9f%8d%b7-feria-de-vinos-15-aniversario-en-vino-compania/
LOCATION:Vino & Compañia\, Plaza de Olavide\, 5\, Chamberí\, Madrid\, Madrid\, 28010\, España
CATEGORIES:FERIA
ATTACH;FMTTYPE=image/jpeg:https://vinoycompania.com/wp-content/uploads/2024/03/vino-compania_tienda-vinos_olavide-madrid_fachada-1-scaled.jpg
ORGANIZER;CN="Vino & Compa%C3%B1ia":MAILTO:catas@vinoycompania.com
END:VEVENT
END:VCALENDAR