BEGIN:VCALENDAR
VERSION:2.0
PRODID:-//Vino y Compañía - ECPv6.15.20//NONSGML v1.0//EN
CALSCALE:GREGORIAN
METHOD:PUBLISH
X-ORIGINAL-URL:https://vinoycompania.com
X-WR-CALDESC:Eventos para Vino y Compañía
REFRESH-INTERVAL;VALUE=DURATION:PT1H
X-Robots-Tag:noindex
X-PUBLISHED-TTL:PT1H
BEGIN:VTIMEZONE
TZID:Europe/Madrid
BEGIN:DAYLIGHT
TZOFFSETFROM:+0100
TZOFFSETTO:+0200
TZNAME:CEST
DTSTART:20240331T010000
END:DAYLIGHT
BEGIN:STANDARD
TZOFFSETFROM:+0200
TZOFFSETTO:+0100
TZNAME:CET
DTSTART:20241027T010000
END:STANDARD
BEGIN:DAYLIGHT
TZOFFSETFROM:+0100
TZOFFSETTO:+0200
TZNAME:CEST
DTSTART:20250330T010000
END:DAYLIGHT
BEGIN:STANDARD
TZOFFSETFROM:+0200
TZOFFSETTO:+0100
TZNAME:CET
DTSTART:20251026T010000
END:STANDARD
BEGIN:DAYLIGHT
TZOFFSETFROM:+0100
TZOFFSETTO:+0200
TZNAME:CEST
DTSTART:20260329T010000
END:DAYLIGHT
BEGIN:STANDARD
TZOFFSETFROM:+0200
TZOFFSETTO:+0100
TZNAME:CET
DTSTART:20261025T010000
END:STANDARD
END:VTIMEZONE
BEGIN:VEVENT
DTSTART;TZID=Europe/Madrid:20250715T200000
DTEND;TZID=Europe/Madrid:20250715T220000
DTSTAMP:20260420T011518
CREATED:20250621T074623Z
LAST-MODIFIED:20250624T182615Z
UID:10001386-1752609600-1752616800@vinoycompania.com
SUMMARY:🍷 Cata ANIVERSARIO con Andrés González: 15 años\, 15 vinos\, 15 personas\, 15 añadas ❤
DESCRIPTION:📅 Fecha: Martes 15 de julio de 2025🕗 Hora: 20:00 h📍 Lugar: Sala de Catas de Vino & Compañía\, Plaza de Olavide 5\, Chamberí (Madrid)💶 Precio: 150 € por persona🔒 Plazas ultra-limitadas: solo 15 asistentes \n\n✨ Un homenaje líquido a nuestra historia\nNo es una cata más. Es la cata más especial que hemos celebrado en 15 años de historia.Andrés\, el alma de Vino & Compañía\, pasa al otro lado de la mesa para guiarnos en una velada íntima\, exclusiva y profundamente emocional. \nCelebramos nuestro 15º aniversario con lo que mejor sabemos hacer: descorchar emociones. Y lo hacemos contigo. \n\n🍇 La experiencia “Al 15”\n15 años. 15 vinos. 15 personas.Una selección irrepetible de 15 botellas míticas\, una por cada añada desde 2010 hasta 2024.Cada una ha sido elegida\, personalmente por Andrés\, por su valor simbólico y emocional dentro del viaje de Vino & Compañía.No es solo una cata\, es una conversación con nuestra memoria líquida. \n\n❤️ ¿Por qué no puedes faltar?\n🕰️ Porque vivirás una experiencia única e irrepetible \n🍾 Porque brindarás con algunas de las botellas más especiales que han pasado por nuestras manos \n🎙️ Porque Andrés no solo abrirá vinos\, abrirá recuerdos \n🫶 Porque esta historia también es tuya: si has venido una vez o cien\, esto también te pertenece \n\n🎟 Reserva tu plaza\nSolo 15 personas vivirán esta noche histórica con nosotros.👉 Reserva ahora y celebra con nosotros el camino recorrido\, añada a añada. \n#WineLovers #WineTasting #FineWine #WineExperience #WineEmotion #vinoycompania #consumoconsciente \n\n\n¿Estás listo para brindar por los últimos 15 años… y por todo lo que viene? 🍷Nos vemos en nuestra Sala de Catas.
URL:https://vinoycompania.com/eventos/%f0%9f%8d%b7-cata-al-15-con-andres-gonzalez-15-anos-15-vinos-15-personas/
LOCATION:Vino & Compañia\, Plaza de Olavide\, 5\, Chamberí\, Madrid\, Madrid\, 28010\, España
CATEGORIES:Cata con Personaje
ATTACH;FMTTYPE=image/jpeg:https://vinoycompania.com/wp-content/uploads/2025/06/IMG_5426-scaled.jpg
ORGANIZER;CN="Vino & Compa%C3%B1ia":MAILTO:catas@vinoycompania.com
END:VEVENT
END:VCALENDAR