BEGIN:VCALENDAR
VERSION:2.0
PRODID:-//Vino y Compañía - ECPv6.15.20//NONSGML v1.0//EN
CALSCALE:GREGORIAN
METHOD:PUBLISH
X-WR-CALNAME:Vino y Compañía
X-ORIGINAL-URL:https://vinoycompania.com
X-WR-CALDESC:Eventos para Vino y Compañía
REFRESH-INTERVAL;VALUE=DURATION:PT1H
X-Robots-Tag:noindex
X-PUBLISHED-TTL:PT1H
BEGIN:VTIMEZONE
TZID:Europe/Madrid
BEGIN:DAYLIGHT
TZOFFSETFROM:+0100
TZOFFSETTO:+0200
TZNAME:CEST
DTSTART:20240331T010000
END:DAYLIGHT
BEGIN:STANDARD
TZOFFSETFROM:+0200
TZOFFSETTO:+0100
TZNAME:CET
DTSTART:20241027T010000
END:STANDARD
BEGIN:DAYLIGHT
TZOFFSETFROM:+0100
TZOFFSETTO:+0200
TZNAME:CEST
DTSTART:20250330T010000
END:DAYLIGHT
BEGIN:STANDARD
TZOFFSETFROM:+0200
TZOFFSETTO:+0100
TZNAME:CET
DTSTART:20251026T010000
END:STANDARD
BEGIN:DAYLIGHT
TZOFFSETFROM:+0100
TZOFFSETTO:+0200
TZNAME:CEST
DTSTART:20260329T010000
END:DAYLIGHT
BEGIN:STANDARD
TZOFFSETFROM:+0200
TZOFFSETTO:+0100
TZNAME:CET
DTSTART:20261025T010000
END:STANDARD
END:VTIMEZONE
BEGIN:VEVENT
DTSTART;TZID=Europe/Madrid:20250210T190000
DTEND;TZID=Europe/Madrid:20250210T210000
DTSTAMP:20260420T071325
CREATED:20250206T142456Z
LAST-MODIFIED:20250207T122122Z
UID:10001317-1739214000-1739221200@vinoycompania.com
SUMMARY:Cata "El Alma de Chianti" con Michele Braganti (Monteraponi) en Vino & Compañía 🍷
DESCRIPTION:📅 Fecha y hora: Lunes 10 de febrero a las 19 h.\n📍 Lugar: Sala de Catas de Vino & Compañía\, Madrid\n💶 Precio: 50€ por persona\n🔒 Plazas limitadas: 36 asistentes \n  \n✨ Únete a una experiencia única con el dueño de Monteraponi\n¡Embárcate en un viaje sensorial y descubre el alma de Chianti! En esta exclusiva cata\, Michele Braganti\, dueño y apasionado defensor de la viticultura sostenible\, te invita a explorar los vinos excepcionales que han convertido a Monteraponi en un referente de la Toscana. 🍇 \n  \n🍇 Monteraponi: Tradición y Terruño en el Corazón de Chianti\nSituada en la pintoresca localidad de Radda\, en pleno corazón de Chianti\, la bodega Monteraponi cuenta con más de 40 años de historia. Rodeada de montañas\, colinas cubiertas de olivares y viñedos que crecen a gran altura\, esta finca se beneficia de un terroir único que otorga a sus vinos una frescura y complejidad excepcionales.  🌄 \n  \n🌱 Michele Braganti: Pasión por lo Orgánico y lo Tradicional\nDesde que asumió el liderazgo de Monteraponi hace más de dos décadas\, Michele Braganti ha dedicado su carrera a recuperar métodos tradicionales de cultivo y vinificación\, con especial énfasis en la elaboración de vinos orgánicos. Su compromiso con la viticultura sostenible y su profundo vínculo con la tierra se traducen en vinos elegantes que expresan auténticamente el carácter de Chianti. 🌿 \n🍷 Los protagonistas serán: \n\nChianti Classico\n⁠Rosato\n⁠Campitello\n⁠Baron Ugo\n⁠Bragantino\n⁠Trebbiano\n\n\n\n🔥 Una Cata que Cuenta Historias\nDurante esta cata\, Michele no solo presentará la exclusiva selección de vinos de Monteraponi (importados por nuestros amigos de IThaca Wines)\, sino que también compartirá las fascinantes historias de la bodega y de su evolución. Cada etiqueta es un testimonio del esfuerzo\, la pasión y la tradición que se han forjado a lo largo de los años. Además\, podrás disfrutar de este recorrido sensorial en un ambiente íntimo\, donde el vino se convierte en el hilo conductor de una experiencia inolvidable. 📖 \n  \n🎟 Reserva tu Plaza\nNo dejes pasar la oportunidad de sumergirte en el mundo de Monteraponi y descubrir el auténtico sabor de Chianti de la mano de un experto. Con plazas limitadas a 36 personas\, asegúrate de reservar tu sitio en esta cita imperdible. 🚀 \n  \n¡Salud! 🍷 \n  \n#Monteraponi #Chianti #VinoItaliano #CataDeVino #IThacaWines #VinoYCultura
URL:https://vinoycompania.com/eventos/cata-el-alma-de-chianti-con-michele-braganti-monteraponi-en-vino-compania-%f0%9f%8d%b7/
LOCATION:Vino & Compañia\, Plaza de Olavide\, 5\, Chamberí\, Madrid\, Madrid\, 28010\, España
CATEGORIES:Cata con Bodega
ATTACH;FMTTYPE=image/jpeg:https://vinoycompania.com/wp-content/uploads/2025/02/monteraponi.jpg
ORGANIZER;CN="Vino & Compa%C3%B1ia":MAILTO:catas@vinoycompania.com
END:VEVENT
END:VCALENDAR