BEGIN:VCALENDAR
VERSION:2.0
PRODID:-//Vino y Compañía - ECPv6.15.20//NONSGML v1.0//EN
CALSCALE:GREGORIAN
METHOD:PUBLISH
X-WR-CALNAME:Vino y Compañía
X-ORIGINAL-URL:https://vinoycompania.com
X-WR-CALDESC:Eventos para Vino y Compañía
REFRESH-INTERVAL;VALUE=DURATION:PT1H
X-Robots-Tag:noindex
X-PUBLISHED-TTL:PT1H
BEGIN:VTIMEZONE
TZID:Europe/Madrid
BEGIN:DAYLIGHT
TZOFFSETFROM:+0100
TZOFFSETTO:+0200
TZNAME:CEST
DTSTART:20230326T010000
END:DAYLIGHT
BEGIN:STANDARD
TZOFFSETFROM:+0200
TZOFFSETTO:+0100
TZNAME:CET
DTSTART:20231029T010000
END:STANDARD
BEGIN:DAYLIGHT
TZOFFSETFROM:+0100
TZOFFSETTO:+0200
TZNAME:CEST
DTSTART:20240331T010000
END:DAYLIGHT
BEGIN:STANDARD
TZOFFSETFROM:+0200
TZOFFSETTO:+0100
TZNAME:CET
DTSTART:20241027T010000
END:STANDARD
BEGIN:DAYLIGHT
TZOFFSETFROM:+0100
TZOFFSETTO:+0200
TZNAME:CEST
DTSTART:20250330T010000
END:DAYLIGHT
BEGIN:STANDARD
TZOFFSETFROM:+0200
TZOFFSETTO:+0100
TZNAME:CET
DTSTART:20251026T010000
END:STANDARD
END:VTIMEZONE
BEGIN:VEVENT
DTSTART;TZID=Europe/Madrid:20241024T200000
DTEND;TZID=Europe/Madrid:20241024T220000
DTSTAMP:20260422T123157
CREATED:20240925T104221Z
LAST-MODIFIED:20240925T110710Z
UID:10001262-1729800000-1729807200@vinoycompania.com
SUMMARY:Whiskies del Mundo Cuarta Cata. Whisky Americano.
DESCRIPTION:Te invitamos a la cuarta cata del ciclo WHISKIES DEL MUNDO:\nEl jueves 24 de octubre a las 20h. \nEn esta cata profundizaremos en el whisk(e)y americano\, apreciando a ciegas seis expresiones que te permitirán conocer la diversidad que esta región aporta al mundo del whisky. No solo sus barricas influyen en la producción global de alcohol\, sino que el líquido va más alla de la cebada\, especialmente con el más americano de los granos: el maíz. Pero el whisky americano no es solo bourbon\, y con esta cata podrás saborear como el espíritu destilador de esta región influencia la industria del whisk(e)y\, desde el pasado hasta el futuro. \nLa cata será presentada por CARLOS LIÉVANO\, Head Bartender de Masaru\, un bar del barrio madrileño de Salesas donde cuentan con una de las más amplias selecciones de whisky japonés en Madrid (más de 30 expresiones y contando). Ofrecer whisky japonés en Madrid es un reto y comprender el gusto del comensal para ofrecerle nuevas expresiones ideales es un arte. \nEsta cata del mundo organizada por Vino & Compañía se apoya en la experiencia de Carlos para escoger con esmero expresiones diversas\, de forma independiente y sin representar ninguna de las marcas\, con el fin de lograr una cata altamente informativa e inusual. \nEsta es la cuarta cata del ciclo de whiskies del mundo\, que te permitirá explorar el mundo del whisk(e)y como seguramente no lo has hecho antes. En esta cata obtendrás un cuarto sello en tu pasaporte de catas\, con el que podrás acceder con un importante descuento para la cata final del ciclo\, que no te querrás perder. ¡No olvides traer contigo tu pasaporte de catas! Y si esta es tu primera cata\, ¡no olvides tramitar el tuyo al llegar! \nLa cata tendrá un costo de 50€ (NO canjeables por producto).
URL:https://vinoycompania.com/eventos/whiskies-del-mundo-cuarta-cata-whisky-americano/
LOCATION:Vino & Compañia\, Plaza de Olavide\, 5\, Chamberí\, Madrid\, Madrid\, 28010\, España
CATEGORIES:Cata Destilados
ATTACH;FMTTYPE=image/jpeg:https://vinoycompania.com/wp-content/uploads/2024/09/1cb52046-40b1-4477-a34e-561c7e099e6e.jpg
ORGANIZER;CN="Vino & Compa%C3%B1ia":MAILTO:catas@vinoycompania.com
END:VEVENT
END:VCALENDAR