BEGIN:VCALENDAR
VERSION:2.0
PRODID:-//Vino y Compañía - ECPv6.15.20//NONSGML v1.0//EN
CALSCALE:GREGORIAN
METHOD:PUBLISH
X-WR-CALNAME:Vino y Compañía
X-ORIGINAL-URL:https://vinoycompania.com
X-WR-CALDESC:Eventos para Vino y Compañía
REFRESH-INTERVAL;VALUE=DURATION:PT1H
X-Robots-Tag:noindex
X-PUBLISHED-TTL:PT1H
BEGIN:VTIMEZONE
TZID:Europe/Madrid
BEGIN:DAYLIGHT
TZOFFSETFROM:+0100
TZOFFSETTO:+0200
TZNAME:CEST
DTSTART:20240331T010000
END:DAYLIGHT
BEGIN:STANDARD
TZOFFSETFROM:+0200
TZOFFSETTO:+0100
TZNAME:CET
DTSTART:20241027T010000
END:STANDARD
BEGIN:DAYLIGHT
TZOFFSETFROM:+0100
TZOFFSETTO:+0200
TZNAME:CEST
DTSTART:20250330T010000
END:DAYLIGHT
BEGIN:STANDARD
TZOFFSETFROM:+0200
TZOFFSETTO:+0100
TZNAME:CET
DTSTART:20251026T010000
END:STANDARD
BEGIN:DAYLIGHT
TZOFFSETFROM:+0100
TZOFFSETTO:+0200
TZNAME:CEST
DTSTART:20260329T010000
END:DAYLIGHT
BEGIN:STANDARD
TZOFFSETFROM:+0200
TZOFFSETTO:+0100
TZNAME:CET
DTSTART:20261025T010000
END:STANDARD
END:VTIMEZONE
BEGIN:VEVENT
DTSTART;TZID=Europe/Madrid:20250704T210000
DTEND;TZID=Europe/Madrid:20250704T230000
DTSTAMP:20260419T235711
CREATED:20250609T153302Z
LAST-MODIFIED:20250609T153302Z
UID:10001349-1751662800-1751670000@vinoycompania.com
SUMMARY:Curso de Cata Inicial
DESCRIPTION:🍷 Curso Inicial de Cata en Vino & Compañía\n¡Descubre cómo interpretar cada copa como un verdadero experto! \n#AprendeACatar \n¿Sabías que llevamos 14 años enseñando a nuestros clientes el arte de la cata de vinos? Todos los viernes\, compartimos nuestra pasión por el vino en un curso diseñado para principiantes que quieren adentrarse en este fascinante mundo. 🌍 \nImagínate frente a una copa de vino: los reflejos te cuentan de dónde viene\, el aroma susurra su historia\, y cada sorbo es un viaje a su origen. Nuestro curso de cata inicial es como aprender un nuevo idioma\, el idioma del vino. Un idioma que no solo entenderás\, sino que disfrutarás cada vez más con cada copa. 🫶🏼 \nCon más de una década de experiencia\, sabemos cómo hacer que este viaje sea especial para cada participante. Te guiaremos paso a paso\, sin tecnicismos complicados\, para que puedas disfrutar\, aprender y\, sobre todo\, sentirte más seguro al catar. 🧐 \nEsto no es solo un curso; es una experiencia que cambiará tu manera de disfrutar el vino. Durante dos horas\, en el ambiente acogedor de nuestra tienda\, exploraremos juntos: \n\nCómo diferenciar tipos de vino por su color e intensidad.\nEl fascinante mundo de los aromas y cómo identificarlos.\nLas claves para analizar los sabores y entender su equilibrio.\n\nY lo mejor: ¡cataremos 6 vinos cuidadosamente seleccionados para que experimentes la diversidad! ❤ \n\n2 blancos: uno joven y otro con años de crianza.\n2 tintos: uno joven y otro viejo.\n2 espumosos: un cava y un champagne.\n\nNo lo pienses más: date el gusto de aprender algo nuevo\, de disfrutar más profundamente de cada copa y de compartir este conocimiento con quienes te rodean. ¡Las plazas son limitadas! 📧 \n👉 Reserva tu plaza ahora y da tu primer paso en el mundo de la cata. \nTe esperamos con la mejor selección de vinos y el entusiasmo de compartir esta pasión contigo. ☺️ \n¡Salud! 🍷 \n#CursoDeVino #AprenderACatar #VinoParaTodos #IniciaciónVinos #CulturaDelVino #VinoConEstilo #Vinoycompañia
URL:https://vinoycompania.com/eventos/curso-de-cata-inicial-47/
LOCATION:Vino & Compañia\, Plaza de Olavide\, 5\, Chamberí\, Madrid\, Madrid\, 28010\, España
CATEGORIES:Cata Inicial
ATTACH;FMTTYPE=image/jpeg:https://vinoycompania.com/wp-content/uploads/2025/02/11abe1a8-a7b6-41cc-b1e3-63d9dae1e769.jpg
ORGANIZER;CN="Vino & Compa%C3%B1ia":MAILTO:catas@vinoycompania.com
END:VEVENT
BEGIN:VEVENT
DTSTART;TZID=Europe/Madrid:20250711T210000
DTEND;TZID=Europe/Madrid:20250711T230000
DTSTAMP:20260419T235711
CREATED:20250609T153517Z
LAST-MODIFIED:20250609T153517Z
UID:10001350-1752267600-1752274800@vinoycompania.com
SUMMARY:Curso de Cata Inicial
DESCRIPTION:🍷 Curso Inicial de Cata en Vino & Compañía\n¡Descubre cómo interpretar cada copa como un verdadero experto! \n#AprendeACatar \n¿Sabías que llevamos 14 años enseñando a nuestros clientes el arte de la cata de vinos? Todos los viernes\, compartimos nuestra pasión por el vino en un curso diseñado para principiantes que quieren adentrarse en este fascinante mundo. 🌍 \nImagínate frente a una copa de vino: los reflejos te cuentan de dónde viene\, el aroma susurra su historia\, y cada sorbo es un viaje a su origen. Nuestro curso de cata inicial es como aprender un nuevo idioma\, el idioma del vino. Un idioma que no solo entenderás\, sino que disfrutarás cada vez más con cada copa. 🫶🏼 \nCon más de una década de experiencia\, sabemos cómo hacer que este viaje sea especial para cada participante. Te guiaremos paso a paso\, sin tecnicismos complicados\, para que puedas disfrutar\, aprender y\, sobre todo\, sentirte más seguro al catar. 🧐 \nEsto no es solo un curso; es una experiencia que cambiará tu manera de disfrutar el vino. Durante dos horas\, en el ambiente acogedor de nuestra tienda\, exploraremos juntos: \n\nCómo diferenciar tipos de vino por su color e intensidad.\nEl fascinante mundo de los aromas y cómo identificarlos.\nLas claves para analizar los sabores y entender su equilibrio.\n\nY lo mejor: ¡cataremos 6 vinos cuidadosamente seleccionados para que experimentes la diversidad! ❤ \n\n2 blancos: uno joven y otro con años de crianza.\n2 tintos: uno joven y otro viejo.\n2 espumosos: un cava y un champagne.\n\nNo lo pienses más: date el gusto de aprender algo nuevo\, de disfrutar más profundamente de cada copa y de compartir este conocimiento con quienes te rodean. ¡Las plazas son limitadas! 📧 \n👉 Reserva tu plaza ahora y da tu primer paso en el mundo de la cata. \nTe esperamos con la mejor selección de vinos y el entusiasmo de compartir esta pasión contigo. ☺️ \n¡Salud! 🍷 \n#CursoDeVino #AprenderACatar #VinoParaTodos #IniciaciónVinos #CulturaDelVino #VinoConEstilo #Vinoycompañia
URL:https://vinoycompania.com/eventos/curso-de-cata-inicial-48/
LOCATION:Vino & Compañia\, Plaza de Olavide\, 5\, Chamberí\, Madrid\, Madrid\, 28010\, España
CATEGORIES:Cata Inicial
ATTACH;FMTTYPE=image/jpeg:https://vinoycompania.com/wp-content/uploads/2024/06/3d9cd65e-6f2f-43a8-86b0-6a4d982b0de2.jpg
ORGANIZER;CN="Vino & Compa%C3%B1ia":MAILTO:catas@vinoycompania.com
END:VEVENT
BEGIN:VEVENT
DTSTART;TZID=Europe/Madrid:20250715T200000
DTEND;TZID=Europe/Madrid:20250715T220000
DTSTAMP:20260419T235711
CREATED:20250621T074623Z
LAST-MODIFIED:20250624T182615Z
UID:10001386-1752609600-1752616800@vinoycompania.com
SUMMARY:🍷 Cata ANIVERSARIO con Andrés González: 15 años\, 15 vinos\, 15 personas\, 15 añadas ❤
DESCRIPTION:📅 Fecha: Martes 15 de julio de 2025🕗 Hora: 20:00 h📍 Lugar: Sala de Catas de Vino & Compañía\, Plaza de Olavide 5\, Chamberí (Madrid)💶 Precio: 150 € por persona🔒 Plazas ultra-limitadas: solo 15 asistentes \n\n✨ Un homenaje líquido a nuestra historia\nNo es una cata más. Es la cata más especial que hemos celebrado en 15 años de historia.Andrés\, el alma de Vino & Compañía\, pasa al otro lado de la mesa para guiarnos en una velada íntima\, exclusiva y profundamente emocional. \nCelebramos nuestro 15º aniversario con lo que mejor sabemos hacer: descorchar emociones. Y lo hacemos contigo. \n\n🍇 La experiencia “Al 15”\n15 años. 15 vinos. 15 personas.Una selección irrepetible de 15 botellas míticas\, una por cada añada desde 2010 hasta 2024.Cada una ha sido elegida\, personalmente por Andrés\, por su valor simbólico y emocional dentro del viaje de Vino & Compañía.No es solo una cata\, es una conversación con nuestra memoria líquida. \n\n❤️ ¿Por qué no puedes faltar?\n🕰️ Porque vivirás una experiencia única e irrepetible \n🍾 Porque brindarás con algunas de las botellas más especiales que han pasado por nuestras manos \n🎙️ Porque Andrés no solo abrirá vinos\, abrirá recuerdos \n🫶 Porque esta historia también es tuya: si has venido una vez o cien\, esto también te pertenece \n\n🎟 Reserva tu plaza\nSolo 15 personas vivirán esta noche histórica con nosotros.👉 Reserva ahora y celebra con nosotros el camino recorrido\, añada a añada. \n#WineLovers #WineTasting #FineWine #WineExperience #WineEmotion #vinoycompania #consumoconsciente \n\n\n¿Estás listo para brindar por los últimos 15 años… y por todo lo que viene? 🍷Nos vemos en nuestra Sala de Catas.
URL:https://vinoycompania.com/eventos/%f0%9f%8d%b7-cata-al-15-con-andres-gonzalez-15-anos-15-vinos-15-personas/
LOCATION:Vino & Compañia\, Plaza de Olavide\, 5\, Chamberí\, Madrid\, Madrid\, 28010\, España
CATEGORIES:Cata con Personaje
ATTACH;FMTTYPE=image/jpeg:https://vinoycompania.com/wp-content/uploads/2025/06/IMG_5426-scaled.jpg
ORGANIZER;CN="Vino & Compa%C3%B1ia":MAILTO:catas@vinoycompania.com
END:VEVENT
BEGIN:VEVENT
DTSTART;TZID=Europe/Madrid:20250716T200000
DTEND;TZID=Europe/Madrid:20250716T220000
DTSTAMP:20260419T235711
CREATED:20250625T111506Z
LAST-MODIFIED:20250625T111506Z
UID:10001388-1752696000-1752703200@vinoycompania.com
SUMMARY:🍷 Cata ANIVERSARIO con Andrés González: 15 años\, 15 vinos\, 15 personas\, 15 añadas ❤ (2ª Edición)
DESCRIPTION:📅 Fecha: Miércoles 16 de julio de 2025🕗 Hora: 20:00 h📍 Lugar: Sala de Catas de Vino & Compañía\, Plaza de Olavide 5\, Chamberí (Madrid)💶 Precio: 150 € por persona🔒 Plazas ultra-limitadas: solo 15 asistentes \n\n✨ Un homenaje líquido a nuestra historia\nNo es una cata más. Es la cata más especial que hemos celebrado en 15 años de historia.Andrés\, el alma de Vino & Compañía\, pasa al otro lado de la mesa para guiarnos en una velada íntima\, exclusiva y profundamente emocional. \nCelebramos nuestro 15º aniversario con lo que mejor sabemos hacer: descorchar emociones. Y lo hacemos contigo. \n\n🍇 La experiencia “Al 15”\n15 años. 15 vinos. 15 personas.Una selección irrepetible de 15 botellas míticas\, una por cada añada desde 2010 hasta 2024.Cada una ha sido elegida\, personalmente por Andrés\, por su valor simbólico y emocional dentro del viaje de Vino & Compañía.No es solo una cata\, es una conversación con nuestra memoria líquida. \n\n❤️ ¿Por qué no puedes faltar?\n🕰️ Porque vivirás una experiencia única e irrepetible \n🍾 Porque brindarás con algunas de las botellas más especiales que han pasado por nuestras manos \n🎙️ Porque Andrés no solo abrirá vinos\, abrirá recuerdos \n🫶 Porque esta historia también es tuya: si has venido una vez o cien\, esto también te pertenece \n\n🎟 Reserva tu plaza\nSolo 15 personas vivirán esta noche histórica con nosotros.👉 Reserva ahora y celebra con nosotros el camino recorrido\, añada a añada. \n#WineLovers #WineTasting #FineWine #WineExperience #WineEmotion #vinoycompania #consumoconsciente \n\n\n¿Estás listo para brindar por los últimos 15 años… y por todo lo que viene? 🍷Nos vemos en nuestra Sala de Catas.
URL:https://vinoycompania.com/eventos/%f0%9f%8d%b7-cata-aniversario-con-andres-gonzalez-15-anos-15-vinos-15-personas-15-anadas-%e2%9d%a4-2a-edicion/
LOCATION:Vino & Compañia\, Plaza de Olavide\, 5\, Chamberí\, Madrid\, Madrid\, 28010\, España
CATEGORIES:Cata con Personaje
ATTACH;FMTTYPE=image/jpeg:https://vinoycompania.com/wp-content/uploads/2025/06/foto-scaled.jpg
ORGANIZER;CN="Vino & Compa%C3%B1ia":MAILTO:catas@vinoycompania.com
END:VEVENT
BEGIN:VEVENT
DTSTART;TZID=Europe/Madrid:20250718T210000
DTEND;TZID=Europe/Madrid:20250718T230000
DTSTAMP:20260419T235711
CREATED:20250609T153731Z
LAST-MODIFIED:20250609T153731Z
UID:10001351-1752872400-1752879600@vinoycompania.com
SUMMARY:Curso de Cata Inicial
DESCRIPTION:🍷 Curso Inicial de Cata en Vino & Compañía\n¡Descubre cómo interpretar cada copa como un verdadero experto! \n#AprendeACatar \n¿Sabías que llevamos 14 años enseñando a nuestros clientes el arte de la cata de vinos? Todos los viernes\, compartimos nuestra pasión por el vino en un curso diseñado para principiantes que quieren adentrarse en este fascinante mundo. 🌍 \nImagínate frente a una copa de vino: los reflejos te cuentan de dónde viene\, el aroma susurra su historia\, y cada sorbo es un viaje a su origen. Nuestro curso de cata inicial es como aprender un nuevo idioma\, el idioma del vino. Un idioma que no solo entenderás\, sino que disfrutarás cada vez más con cada copa. 🫶🏼 \nCon más de una década de experiencia\, sabemos cómo hacer que este viaje sea especial para cada participante. Te guiaremos paso a paso\, sin tecnicismos complicados\, para que puedas disfrutar\, aprender y\, sobre todo\, sentirte más seguro al catar. 🧐 \nEsto no es solo un curso; es una experiencia que cambiará tu manera de disfrutar el vino. Durante dos horas\, en el ambiente acogedor de nuestra tienda\, exploraremos juntos: \n\nCómo diferenciar tipos de vino por su color e intensidad.\nEl fascinante mundo de los aromas y cómo identificarlos.\nLas claves para analizar los sabores y entender su equilibrio.\n\nY lo mejor: ¡cataremos 6 vinos cuidadosamente seleccionados para que experimentes la diversidad! ❤ \n\n2 blancos: uno joven y otro con años de crianza.\n2 tintos: uno joven y otro viejo.\n2 espumosos: un cava y un champagne.\n\nNo lo pienses más: date el gusto de aprender algo nuevo\, de disfrutar más profundamente de cada copa y de compartir este conocimiento con quienes te rodean. ¡Las plazas son limitadas! 📧 \n👉 Reserva tu plaza ahora y da tu primer paso en el mundo de la cata. \nTe esperamos con la mejor selección de vinos y el entusiasmo de compartir esta pasión contigo. ☺️ \n¡Salud! 🍷 \n#CursoDeVino #AprenderACatar #VinoParaTodos #IniciaciónVinos #CulturaDelVino #VinoConEstilo #Vinoycompañia
URL:https://vinoycompania.com/eventos/curso-de-cata-inicial-49/
LOCATION:Vino & Compañia\, Plaza de Olavide\, 5\, Chamberí\, Madrid\, Madrid\, 28010\, España
CATEGORIES:Cata Inicial
ATTACH;FMTTYPE=image/jpeg:https://vinoycompania.com/wp-content/uploads/2024/06/cbc6d51a-7e68-4f04-8339-6a24b53b4abc.jpg
ORGANIZER;CN="Vino & Compa%C3%B1ia":MAILTO:catas@vinoycompania.com
END:VEVENT
BEGIN:VEVENT
DTSTART;TZID=Europe/Madrid:20250725T210000
DTEND;TZID=Europe/Madrid:20250725T230000
DTSTAMP:20260419T235711
CREATED:20250609T153929Z
LAST-MODIFIED:20250609T153929Z
UID:10001352-1753477200-1753484400@vinoycompania.com
SUMMARY:Curso de Cata Inicial
DESCRIPTION:🍷 Curso Inicial de Cata en Vino & Compañía\n¡Descubre cómo interpretar cada copa como un verdadero experto! \n#AprendeACatar \n¿Sabías que llevamos 14 años enseñando a nuestros clientes el arte de la cata de vinos? Todos los viernes\, compartimos nuestra pasión por el vino en un curso diseñado para principiantes que quieren adentrarse en este fascinante mundo. 🌍 \nImagínate frente a una copa de vino: los reflejos te cuentan de dónde viene\, el aroma susurra su historia\, y cada sorbo es un viaje a su origen. Nuestro curso de cata inicial es como aprender un nuevo idioma\, el idioma del vino. Un idioma que no solo entenderás\, sino que disfrutarás cada vez más con cada copa. 🫶🏼 \nCon más de una década de experiencia\, sabemos cómo hacer que este viaje sea especial para cada participante. Te guiaremos paso a paso\, sin tecnicismos complicados\, para que puedas disfrutar\, aprender y\, sobre todo\, sentirte más seguro al catar. 🧐 \nEsto no es solo un curso; es una experiencia que cambiará tu manera de disfrutar el vino. Durante dos horas\, en el ambiente acogedor de nuestra tienda\, exploraremos juntos: \n\nCómo diferenciar tipos de vino por su color e intensidad.\nEl fascinante mundo de los aromas y cómo identificarlos.\nLas claves para analizar los sabores y entender su equilibrio.\n\nY lo mejor: ¡cataremos 6 vinos cuidadosamente seleccionados para que experimentes la diversidad! ❤ \n\n2 blancos: uno joven y otro con años de crianza.\n2 tintos: uno joven y otro viejo.\n2 espumosos: un cava y un champagne.\n\nNo lo pienses más: date el gusto de aprender algo nuevo\, de disfrutar más profundamente de cada copa y de compartir este conocimiento con quienes te rodean. ¡Las plazas son limitadas! 📧 \n👉 Reserva tu plaza ahora y da tu primer paso en el mundo de la cata. \nTe esperamos con la mejor selección de vinos y el entusiasmo de compartir esta pasión contigo. ☺️ \n¡Salud! 🍷 \n#CursoDeVino #AprenderACatar #VinoParaTodos #IniciaciónVinos #CulturaDelVino #VinoConEstilo #Vinoycompañia
URL:https://vinoycompania.com/eventos/curso-de-cata-inicial-50/
LOCATION:Vino & Compañia\, Plaza de Olavide\, 5\, Chamberí\, Madrid\, Madrid\, 28010\, España
CATEGORIES:Cata Inicial
ATTACH;FMTTYPE=image/jpeg:https://vinoycompania.com/wp-content/uploads/2024/06/afc8b0dc-ea81-4ec5-b3a9-0dae179402ed.jpg
ORGANIZER;CN="Vino & Compa%C3%B1ia":MAILTO:catas@vinoycompania.com
END:VEVENT
END:VCALENDAR