BEGIN:VCALENDAR
VERSION:2.0
PRODID:-//Vino y Compañía - ECPv6.15.20//NONSGML v1.0//EN
CALSCALE:GREGORIAN
METHOD:PUBLISH
X-ORIGINAL-URL:https://vinoycompania.com
X-WR-CALDESC:Eventos para Vino y Compañía
REFRESH-INTERVAL;VALUE=DURATION:PT1H
X-Robots-Tag:noindex
X-PUBLISHED-TTL:PT1H
BEGIN:VTIMEZONE
TZID:Europe/Madrid
BEGIN:DAYLIGHT
TZOFFSETFROM:+0100
TZOFFSETTO:+0200
TZNAME:CEST
DTSTART:20250330T010000
END:DAYLIGHT
BEGIN:STANDARD
TZOFFSETFROM:+0200
TZOFFSETTO:+0100
TZNAME:CET
DTSTART:20251026T010000
END:STANDARD
BEGIN:DAYLIGHT
TZOFFSETFROM:+0100
TZOFFSETTO:+0200
TZNAME:CEST
DTSTART:20260329T010000
END:DAYLIGHT
BEGIN:STANDARD
TZOFFSETFROM:+0200
TZOFFSETTO:+0100
TZNAME:CET
DTSTART:20261025T010000
END:STANDARD
BEGIN:DAYLIGHT
TZOFFSETFROM:+0100
TZOFFSETTO:+0200
TZNAME:CEST
DTSTART:20270328T010000
END:DAYLIGHT
BEGIN:STANDARD
TZOFFSETFROM:+0200
TZOFFSETTO:+0100
TZNAME:CET
DTSTART:20271031T010000
END:STANDARD
END:VTIMEZONE
BEGIN:VEVENT
DTSTART;TZID=Europe/Madrid:20260507T200000
DTEND;TZID=Europe/Madrid:20260507T220000
DTSTAMP:20260421T141248
CREATED:20260420T145839Z
LAST-MODIFIED:20260420T154350Z
UID:10001498-1778184000-1778191200@vinoycompania.com
SUMMARY:Cata VINOS A CIEGAS con Santi Rivas 🍇
DESCRIPTION:📅 Fecha y hora: Jueves 7 de Mayo de 2026 a las 20 h.\n📍 Lugar: Sala de Catas de Vino & Compañía\n💶 Precio: 50€ por persona\n🔒 Plazas limitadas: 36 asistentes \n\n🌟 Santi Rivas: Escritor\, Experto y Wine Star\nSanti Rivas (@colectivodecantado) es un reconocido crítico de vinos y divulgador enológico. 🏅 Además\, es autor de dos libros: \n\n«Deja todo o deja el Vino»: En este libro\, Santi explora el consumo de vino como una manifestación sociológica\, analizando las tendencias y comportamientos en el mundo vinícola. 📚\n«Vinos Gentrificados»: En su obra más reciente\, aborda cómo ciertos vinos accesibles se han transformado en productos de lujo\, analizando las dinámicas del mercado y las implicaciones para los consumidores. 📖\n\nSanti también ha colaborado en diversos medios de comunicación\, incluyendo El País\, Sobremesa\, Beber Magazine\, ¡Hola! \, Esquire o la Cadena SER\, donde comparte sus conocimientos y recomendaciones sobre el mundo del vino. 📰 \n\n🔥 Cata a Ciegas\nDurante esta cata\, Santi Rivas nos llevará a descubrir 6 vinos seleccionados personalmente por él\, vinos que destacan por su historia\, su carácter y su calidad excepcional. 🍇 Al ser una cata a ciegas\, el enfoque está en descubrir los vinos sin prejuicios. 🕵️‍♂️ No sabrás qué estás probando hasta el final\, lo que te permitirá disfrutar plenamente de cada copa con una mente abierta y enfocada en los detalles. \n\n🏅 Una Experiencia Única con Santi Rivas\nSanti no solo te guiará en la cata a su forma tan peculiar\, sino que también compartirá su profundo conocimiento sobre el terroir\, el proceso de vinificación y las historias que hay detrás de cada una de esas etiquetas. 🌍 \n\n📝 Reserva tu Plaza para «Vinos A Ciegas»\n  \n¡Salud! 🍷 \n  \n#VinoDeCulto #CataACiegas #VinosExcepcionales #SantiRivas #VinoConHistoria #CataConPersonaje
URL:https://vinoycompania.com/eventos/cata-vinos-a-ciegas-con-santi-rivas-%f0%9f%8d%87/
LOCATION:Vino & Compañia\, Plaza de Olavide\, 5\, Chamberí\, Madrid\, Madrid\, 28010\, España
CATEGORIES:Cata con Personaje
ATTACH;FMTTYPE=image/jpeg:https://vinoycompania.com/wp-content/uploads/2026/02/52A6644-scaled.jpg
ORGANIZER;CN="Vino & Compa%C3%B1ia":MAILTO:catas@vinoycompania.com
END:VEVENT
END:VCALENDAR