BEGIN:VCALENDAR
VERSION:2.0
PRODID:-//Vino y Compañía - ECPv6.15.20//NONSGML v1.0//EN
CALSCALE:GREGORIAN
METHOD:PUBLISH
X-ORIGINAL-URL:https://vinoycompania.com
X-WR-CALDESC:Eventos para Vino y Compañía
REFRESH-INTERVAL;VALUE=DURATION:PT1H
X-Robots-Tag:noindex
X-PUBLISHED-TTL:PT1H
BEGIN:VTIMEZONE
TZID:Europe/Madrid
BEGIN:DAYLIGHT
TZOFFSETFROM:+0100
TZOFFSETTO:+0200
TZNAME:CEST
DTSTART:20240331T010000
END:DAYLIGHT
BEGIN:STANDARD
TZOFFSETFROM:+0200
TZOFFSETTO:+0100
TZNAME:CET
DTSTART:20241027T010000
END:STANDARD
BEGIN:DAYLIGHT
TZOFFSETFROM:+0100
TZOFFSETTO:+0200
TZNAME:CEST
DTSTART:20250330T010000
END:DAYLIGHT
BEGIN:STANDARD
TZOFFSETFROM:+0200
TZOFFSETTO:+0100
TZNAME:CET
DTSTART:20251026T010000
END:STANDARD
BEGIN:DAYLIGHT
TZOFFSETFROM:+0100
TZOFFSETTO:+0200
TZNAME:CEST
DTSTART:20260329T010000
END:DAYLIGHT
BEGIN:STANDARD
TZOFFSETFROM:+0200
TZOFFSETTO:+0100
TZNAME:CET
DTSTART:20261025T010000
END:STANDARD
END:VTIMEZONE
BEGIN:VEVENT
DTSTART;TZID=Europe/Madrid:20250925T190000
DTEND;TZID=Europe/Madrid:20250925T210000
DTSTAMP:20260421T232103
CREATED:20250923T110440Z
LAST-MODIFIED:20250923T110943Z
UID:10001405-1758826800-1758834000@vinoycompania.com
SUMMARY:🍷 Closerie Saint Roc – Burdeos Contemporáneo con Emeline Callet
DESCRIPTION:🗓️ Jueves 25 de septiembre • 19:00 h📍 Sala de Catas de Vino & Compañía\, Plaza de Olavide 5\, Chamberí (Madrid)💶 50 € por persona👥 Plazas limitadas a 36 asistentes \n🌿 Closerie Saint Roc: la revolución biodinámica de Burdeos\nDesde la adquisición del dominio en 2013 por la familia Amoreau (también propietarios del prestigioso Château Le Puy)\, Closerie Saint Roc ha emergido como uno de los proyectos más singulares e inspiradores del Burdeos moderno. Con 16 hectáreas de viñedo plantadas con Merlot (70 %)\, Cabernet Franc (20 %) y Cabernet Sauvignon (10 %)\, sobre suelos de arcillo-caliza con sub-suelos calcáreos ricos en fósiles\, la finca combina tradición\, respeto por el entorno y ambición enológica. \n👩‍🏫 Emeline Callet: la pasión al frente de la bodega\nEmeline será quien nos acompañe esa tarde\, compartiendo de primera mano la filosofía\, las historias detrás de cada cuvée y los pequeños detalles que hacen de Closerie Saint Roc algo diferente: el vínculo con el terruño\, la paciencia\, la expresión natural y la elegancia auténtica. 🌸 \n🍇 ¿Qué vamos a catar?\nTraeremos una selección personal de seis vinos elegidos por Emeline y su equipo. Serán botellas que expresan la variedad\, la altitud de los viñedos\, el suelo de arcilla-caliza\, las fermentaciones naturales y el envejecimiento más respetuoso. \nEntre ellos seguro estarán algunas de sus cuvées icónicas —parcela Les Noyers\, Les Pins\, quizás Les Sureaux— vinos que ya han conquistado paladares exigentes por su frescura\, taninos finos y mineralidad elevada\, propias de su estilo biodinámico y natural. 🥂 \n✨ ¿Por qué esta cata es irrepetible?\n🌍 Porque verás de cerca el estilo de un Burdeos que apuesta por la pureza\, por la fruta y por el terruño en estado puro. \n🎤 Porque Emeline Callet nos hablará de decisiones pequeñas que cambian mucho (prácticas de viñedo\, fermentaciones\, crianza). \n🍷 Porque este tipo de vinos escasos no se abren todos los días en Madrid. \n🤝 Porque disfrutarás en un entorno íntimo\, aprendiendo\, degustando y compartiendo con otros amantes del vino. \n🔑 Reserva tu plaza\nNo dejes pasar esta oportunidad: plazas limitadas a 36 asistentes. ⏳50 € por persona incluye la cata completa y la experiencia con Emeline Callet. \n¡Salud! 🍷\n#CloserieSaintRoc #BordeauxNatural #BurdeosBiodinámico #VinoContemporáneo #VinoConEsencia #WineExperience #vinoycompania #consumoconsciente
URL:https://vinoycompania.com/eventos/%f0%9f%8d%b7-closerie-saint-roc-burdeos-contemporaneo-con-emeline-callet/
LOCATION:Vino & Compañia\, Plaza de Olavide\, 5\, Chamberí\, Madrid\, Madrid\, 28010\, España
CATEGORIES:Cata con Personaje
ATTACH;FMTTYPE=image/png:https://vinoycompania.com/wp-content/uploads/2025/09/BLASON-et-LOGO-CSR_420_BLACK.png
ORGANIZER;CN="Vino & Compa%C3%B1ia":MAILTO:catas@vinoycompania.com
END:VEVENT
BEGIN:VEVENT
DTSTART;TZID=Europe/Madrid:20250925T200000
DTEND;TZID=Europe/Madrid:20250925T220000
DTSTAMP:20260421T232103
CREATED:20250819T160739Z
LAST-MODIFIED:20250819T160739Z
UID:10001400-1758830400-1758837600@vinoycompania.com
SUMMARY:Whisky de aficionado para aficionado: NEW MAKE .  🥃
DESCRIPTION:🥃 VINO & COMPAÑÍA PRESENTAWHISKY DE AFICIONADO PARA AFICIONADO: NEW MAKEEl viaje del whisky desde su origen hasta la copa \n🗓 Jueves 25 de septiembre | 🕗 20:00h📍 Sala de Catas de Vino & Compañía\, Plaza de Olavide 5\, Chamberí (Madrid)🎟 50€ por persona | Aforo limitado a 30 personas \n\n🔥 Un viaje al corazón del whisky \nAntes de que un whisky se convierta en la joya que conocemos\, existe su versión más pura: el New Make\, ese destilado transparente y vibrante que revela el alma de cada malta. \nEn esta nueva edición de nuestra serie Whisky de Aficionado para Aficionado\, Jesús y Mario regresan para guiarnos en una experiencia única: descubrirás 6 New Make y sus respectivas versiones terminadas. Una oportunidad irrepetible para entender cómo la madera\, el tiempo y la paciencia transforman la esencia en complejidad. \n\n✨ ¿Por qué no puedes perderte esta cata? \nVivirás una experiencia pedagógica y sensorial a la vez: del origen al resultado final. \nProbarás whiskies seleccionados personalmente por Mario y Jesús\, con historias que solo ellos saben contar. \nAprenderás a reconocer qué aporta realmente el paso por barrica\, más allá de la teoría. \nUna cata íntima (solo 30 personas)\, diseñada para disfrutar en compañía de verdaderos apasionados. \n\n🥃 El whisky como nunca lo habías probado \nNo se trata solo de catar\, sino de comprender la alquimia del tiempo. Compararás la versión joven y su evolución madura\, ampliando tu paladar y tu conocimiento. \n\n⚡ Plazas muy limitadas \nEl aforo es reducido para garantizar un ambiente cercano y participativo.Si te apasiona el whisky y quieres vivirlo desde su raíz\, este es tu momento. \nReserva ya tu entrada y forma parte de esta experiencia única en Madrid. \n¡Salud! 🥃 \n#WhiskyLovers #NewMake #CataDeWhisky #vinoycompania #WhiskyExperience #consumoconsciente
URL:https://vinoycompania.com/eventos/whisky-de-aficionado-para-aficionado-new-make-%f0%9f%a5%83/
LOCATION:Vino & Compañia\, Plaza de Olavide\, 5\, Chamberí\, Madrid\, Madrid\, 28010\, España
CATEGORIES:Cata Destilados
ATTACH;FMTTYPE=image/jpeg:https://vinoycompania.com/wp-content/uploads/2025/08/IMG_6501-1-scaled.jpg
ORGANIZER;CN="Vino & Compa%C3%B1ia":MAILTO:catas@vinoycompania.com
END:VEVENT
END:VCALENDAR