BEGIN:VCALENDAR
VERSION:2.0
PRODID:-//Vino y Compañía - ECPv6.15.20//NONSGML v1.0//EN
CALSCALE:GREGORIAN
METHOD:PUBLISH
X-ORIGINAL-URL:https://vinoycompania.com
X-WR-CALDESC:Eventos para Vino y Compañía
REFRESH-INTERVAL;VALUE=DURATION:PT1H
X-Robots-Tag:noindex
X-PUBLISHED-TTL:PT1H
BEGIN:VTIMEZONE
TZID:Europe/Madrid
BEGIN:DAYLIGHT
TZOFFSETFROM:+0100
TZOFFSETTO:+0200
TZNAME:CEST
DTSTART:20240331T010000
END:DAYLIGHT
BEGIN:STANDARD
TZOFFSETFROM:+0200
TZOFFSETTO:+0100
TZNAME:CET
DTSTART:20241027T010000
END:STANDARD
BEGIN:DAYLIGHT
TZOFFSETFROM:+0100
TZOFFSETTO:+0200
TZNAME:CEST
DTSTART:20250330T010000
END:DAYLIGHT
BEGIN:STANDARD
TZOFFSETFROM:+0200
TZOFFSETTO:+0100
TZNAME:CET
DTSTART:20251026T010000
END:STANDARD
BEGIN:DAYLIGHT
TZOFFSETFROM:+0100
TZOFFSETTO:+0200
TZNAME:CEST
DTSTART:20260329T010000
END:DAYLIGHT
BEGIN:STANDARD
TZOFFSETFROM:+0200
TZOFFSETTO:+0100
TZNAME:CET
DTSTART:20261025T010000
END:STANDARD
END:VTIMEZONE
BEGIN:VEVENT
DTSTART;TZID=Europe/Madrid:20250512T200000
DTEND;TZID=Europe/Madrid:20250512T220000
DTSTAMP:20260422T050635
CREATED:20250429T154543Z
LAST-MODIFIED:20250429T154543Z
UID:10001346-1747080000-1747087200@vinoycompania.com
SUMMARY:Cata Exclusiva con Giacomo Baraldo en Vino & Compañía 🍷
DESCRIPTION:Descubre la Toscana Secreta en Madrid \nEl próximo lunes 12 de mayo a las 20:00\, Vino & Compañía te ofrece una cata única con Giacomo Baraldo\, un joven talento toscano que está reinventando la Sangiovese. \n\nUna Noche para Descubrir la Sangiovese de Montaña ⛰️\nGiacomo Baraldo proviene de San Casciano dei Bagni\, en la Toscana\, una zona con un terroir único en las faldas del Monte Cetona. Aquí\, a mayor altitud y con un clima particular\, cultiva una Sangiovese elegante y floral\, muy diferente a la tradicional. Su experiencia en la prestigiosa Domaine de Montille en Borgoña ha influido en su búsqueda de vinos finos y delicados.     \n\n\n\n\n\n\n\n¿Por Qué Esta Cata es Especial? ✨\n\nConoce a Giacomo Baraldo: Escucha de primera mano la historia y la pasión detrás de sus vinos. \nDegusta Vinos Únicos: Prueba una selección de Sangiovese\, y alguna sorpresa mas\, que te sorprenderá por su frescura y elegancia.\n\n\n\n\nDescubre un Terroir Escondido: Viaja sensorialmente a la Toscana menos conocida y aprecia la autenticidad de San Casciano dei Bagni.   \n\n\n\n\nDisfruta del Ambiente de Vino & Compañía: Relájate en tu vinoteca de confianza en la Plaza de Olavide.  \n\n\n\n\n\n\nLos Vinos que Podrás Degustar  🍷\n\nIl Bossoloto 2022\nIl Bossoloto 2020\nCaccialupi 2020\nCaccialupi 2018\nIl Pozzone 2020\nIl Pozzone 2018\nO.O Ferment Vineyard 2020\nY alguna sorpresa mas…\n\n\n\n\n\n\n\n\nLa Filosofía de Giacomo Baraldo 🌱\nGiacomo Baraldo está resignificando los vinos de su tierra con autenticidad y un profundo sentido del lugar. Su enfoque artesanal\, influenciado por su experiencia internacional\, busca una expresión de la Sangiovese que destaque por su delicadeza y frescura\, aprovechando la singularidad del terroir de San Casciano dei Bagni. La composición calcárea de los suelos más antiguos de la región\, similar a la de Borgoña\, sugiere un gran potencial para vinos complejos y aromáticos.    \n\n\n\n\n\n\n\nVino & Compañía: Tu Anfitrión en Madrid 🏡\nEn Vino & Compañía\, nos apasiona ofrecerte experiencias enológicas únicas. Esta cata con Giacomo Baraldo es una oportunidad perfecta para descubrir nuevos sabores y aprender de un productor innovador en un ambiente cercano y experto. \nReserva tu plaza ahora mismo \nNo Te Pierdas Esta Oportunidad Única ⏳\nLas plazas para esta cata exclusiva son limitadas. Asegura tu lugar y prepárate para una noche inolvidable descubriendo la Toscana secreta de Giacomo Baraldo. \nTe esperamos el lunes 12 de mayo a las 20:00 en Vino & Compañía\, Plaza de Olavide número cinco\, Madrid. 📍 \n¡Salud! 🍷 \n\n\n#WineLover #WineTasting #Vino #Madrid #Sangiovese #ItalianWine
URL:https://vinoycompania.com/eventos/cata-exclusiva-con-giacomo-baraldo-en-vino-compania-%f0%9f%8d%b7/
LOCATION:Vino & Compañia\, Plaza de Olavide\, 5\, Chamberí\, Madrid\, Madrid\, 28010\, España
CATEGORIES:Cata con Bodega
ATTACH;FMTTYPE=image/jpeg:https://vinoycompania.com/wp-content/uploads/2025/04/9a7806cc-5d1a-4a71-92b4-3e741986f9cc.jpg
ORGANIZER;CN="Vino & Compa%C3%B1ia":MAILTO:catas@vinoycompania.com
END:VEVENT
END:VCALENDAR