BEGIN:VCALENDAR
VERSION:2.0
PRODID:-//Vino y Compañía - ECPv6.15.20//NONSGML v1.0//EN
CALSCALE:GREGORIAN
METHOD:PUBLISH
X-ORIGINAL-URL:https://vinoycompania.com
X-WR-CALDESC:Eventos para Vino y Compañía
REFRESH-INTERVAL;VALUE=DURATION:PT1H
X-Robots-Tag:noindex
X-PUBLISHED-TTL:PT1H
BEGIN:VTIMEZONE
TZID:Europe/Madrid
BEGIN:DAYLIGHT
TZOFFSETFROM:+0100
TZOFFSETTO:+0200
TZNAME:CEST
DTSTART:20240331T010000
END:DAYLIGHT
BEGIN:STANDARD
TZOFFSETFROM:+0200
TZOFFSETTO:+0100
TZNAME:CET
DTSTART:20241027T010000
END:STANDARD
BEGIN:DAYLIGHT
TZOFFSETFROM:+0100
TZOFFSETTO:+0200
TZNAME:CEST
DTSTART:20250330T010000
END:DAYLIGHT
BEGIN:STANDARD
TZOFFSETFROM:+0200
TZOFFSETTO:+0100
TZNAME:CET
DTSTART:20251026T010000
END:STANDARD
BEGIN:DAYLIGHT
TZOFFSETFROM:+0100
TZOFFSETTO:+0200
TZNAME:CEST
DTSTART:20260329T010000
END:DAYLIGHT
BEGIN:STANDARD
TZOFFSETFROM:+0200
TZOFFSETTO:+0100
TZNAME:CET
DTSTART:20261025T010000
END:STANDARD
END:VTIMEZONE
BEGIN:VEVENT
DTSTART;TZID=Europe/Madrid:20250320T200000
DTEND;TZID=Europe/Madrid:20250320T220000
DTSTAMP:20260422T075054
CREATED:20250217T120315Z
LAST-MODIFIED:20250320T113347Z
UID:10001318-1742500800-1742508000@vinoycompania.com
SUMMARY:🥃 Whisky de Aficionado a Aficionado.
DESCRIPTION:📅 Fecha y hora: Jueves 20 de marzo de 2025 a las 20:00 h📍 Lugar: Sala de Catas de Vino & Compañía💶 Precio: 50€ por persona🔒 Plazas limitadas: 30 asistentes \n👋 ¡Hola #WhiskyLovers!\nEn Vino & Compañía lanzamos nuestro nuevo ciclo: “Whisky de Aficionado a Aficionado”. Este ciclo nace de la pasión por descubrir whiskies nuevos y sorprendentes\, con precios accesibles para todos. Este primer encuentro será impartido por Mario Calvo y Jesús Cepeda\, dos referentes con amplia experiencia en el mundo del whisky. \n🥃 Una Experiencia Única\nDurante la cata\, nuestros expertos te guiarán a través de una selección de etiquetas que combinan tradición e innovación\, ampliando tus horizontes sensoriales. Descubrirás aquellos whiskies que realmente marcan la diferencia\, demostrando que el precio accesible no está reñido con la calidad y el carácter de cada botella. \n🔍 ¿Qué te espera?\n\nSelección exclusiva: Mario Calvo y Jesús Cepeda han elegido personalmente los whiskies que degustarás.\nExperiencia interactiva: Sumérgete en una cata donde aprenderás a identificar matices\, aromas y sabores únicos.\nAccesibilidad: Un evento pensado para todos los aficionados que desean explorar el mundo del whisky sin que el precio sea una barrera.\n\n👉 Reserva tu Plaza\nNo te pierdas esta oportunidad única de disfrutar de una cata de whisky diferente y enriquecedora. \n\n¡Salud! 🥃 \n\n\n\n\n\n\n\n\n\n\n\n\n\n\n\n\n\n\n\n\n\n\n\n#WhiskyDeAficionado #CataDeWhisky #MarioCalvo #JesúsCepeda #WhiskyLovers #VinoYCompañia
URL:https://vinoycompania.com/eventos/%f0%9f%a5%83-whisky-de-aficionado-a-aficionado/
LOCATION:Vino & Compañia\, Plaza de Olavide\, 5\, Chamberí\, Madrid\, Madrid\, 28010\, España
CATEGORIES:Cata Destilados
ATTACH;FMTTYPE=image/jpeg:https://vinoycompania.com/wp-content/uploads/2025/02/Whisky-scaled.jpg
ORGANIZER;CN="Vino & Compa%C3%B1ia":MAILTO:catas@vinoycompania.com
END:VEVENT
END:VCALENDAR