BEGIN:VCALENDAR
VERSION:2.0
PRODID:-//Vino y Compañía - ECPv6.15.20//NONSGML v1.0//EN
CALSCALE:GREGORIAN
METHOD:PUBLISH
X-WR-CALNAME:Vino y Compañía
X-ORIGINAL-URL:https://vinoycompania.com
X-WR-CALDESC:Eventos para Vino y Compañía
REFRESH-INTERVAL;VALUE=DURATION:PT1H
X-Robots-Tag:noindex
X-PUBLISHED-TTL:PT1H
BEGIN:VTIMEZONE
TZID:Europe/Madrid
BEGIN:DAYLIGHT
TZOFFSETFROM:+0100
TZOFFSETTO:+0200
TZNAME:CEST
DTSTART:20230326T010000
END:DAYLIGHT
BEGIN:STANDARD
TZOFFSETFROM:+0200
TZOFFSETTO:+0100
TZNAME:CET
DTSTART:20231029T010000
END:STANDARD
BEGIN:DAYLIGHT
TZOFFSETFROM:+0100
TZOFFSETTO:+0200
TZNAME:CEST
DTSTART:20240331T010000
END:DAYLIGHT
BEGIN:STANDARD
TZOFFSETFROM:+0200
TZOFFSETTO:+0100
TZNAME:CET
DTSTART:20241027T010000
END:STANDARD
BEGIN:DAYLIGHT
TZOFFSETFROM:+0100
TZOFFSETTO:+0200
TZNAME:CEST
DTSTART:20250330T010000
END:DAYLIGHT
BEGIN:STANDARD
TZOFFSETFROM:+0200
TZOFFSETTO:+0100
TZNAME:CET
DTSTART:20251026T010000
END:STANDARD
END:VTIMEZONE
BEGIN:VEVENT
DTSTART;TZID=Europe/Madrid:20241113T200000
DTEND;TZID=Europe/Madrid:20241113T220000
DTSTAMP:20260422T174207
CREATED:20241022T112154Z
LAST-MODIFIED:20241110T163437Z
UID:10001271-1731528000-1731535200@vinoycompania.com
SUMMARY:Ramiro Ibáñez en Vino & Compañía ❤
DESCRIPTION:El próximo miércoles 13 de noviembre a las 20h. en Vino & Compañía\, tenemos el honor de recibir a uno de los grandes nombres del Marco de Jerez: Ramiro Ibáñez. Una cata que nos ha costado mucho esfuerzo organizar\, pero finalmente\, ¡lo hemos conseguido! Prepárate para una experiencia única con vinos que reflejan la pureza y la riqueza de este gran terroir 🍇✨. \n  \nRamiro Ibáñez: el retorno a las raíces del Marco de Jerez \nPara Ramiro Ibáñez\, la clave de su proyecto siempre ha sido clara: la expresión auténtica del terruño. Con una enología que nace del respeto por la tierra y las tradiciones de la zona 🌿🍷\, Ramiro empezó su bodega\, conocida en su origen como Cota 45\, tras años de experiencia en diferentes bodegas de todo el mundo 🌍. Su objetivo es claro: recuperar lo mejor de los suelos y las uvas del Marco de Jerez\, ofreciendo vinos que sean un reflejo fiel de su tierra y su historia 📜. \n  \nLos vinos que vamos a catar \nRamiro ha seleccionado seis ejemplos que representan lo mejor de su bodega y su enfoque de respeto por el terruño 🍷: \n– El Reventón 2023 – 23\,50 €\n– Paganilla 2023 – 23\,50 €\n– Miraflores 2023 – 23\,50 €\n– Caserío 2023 – 34\,50 €\n– Carrascal 2020 – 56\,90 €\n– Agostado Palo Cortado 2020 – 56\,90 € \nCada uno de estos vinos te llevará en un viaje sensorial por el corazón del Marco de Jerez\, destacando por su personalidad\, complejidad y conexión con la tierra 🌱🍇. \n  \nReserva tu plaza ahora \nNo te pierdas esta cata exclusiva con Ramiro Ibáñez. Reserva tu plaza cuanto antes\, porque esta es una oportunidad única para descubrir los vinos que están revolucionando el panorama de Jerez 🍷✨. ¡Las plazas son limitadas! \n  \n¡Salud! 🍷 \n  \n#VinosDeJerez  \n#RamiroIbanez  \n#CataDeVinos  \n#JerezSherry  \n#WineExperience  \n#VinosDeAutor \n#Vinoycompañia
URL:https://vinoycompania.com/eventos/ramiro-ibanez-en-vino-compania-%e2%9d%a4/
LOCATION:Vino & Compañia\, Plaza de Olavide\, 5\, Chamberí\, Madrid\, Madrid\, 28010\, España
CATEGORIES:Cata con Bodega
ATTACH;FMTTYPE=image/jpeg:https://vinoycompania.com/wp-content/uploads/2024/10/Ramiro-Ibanez-en-Vino-Compania-.jpg
ORGANIZER;CN="Vino & Compa%C3%B1ia":MAILTO:catas@vinoycompania.com
END:VEVENT
END:VCALENDAR