BEGIN:VCALENDAR
VERSION:2.0
PRODID:-//Vino y Compañía - ECPv6.15.20//NONSGML v1.0//EN
CALSCALE:GREGORIAN
METHOD:PUBLISH
X-ORIGINAL-URL:https://vinoycompania.com
X-WR-CALDESC:Eventos para Vino y Compañía
REFRESH-INTERVAL;VALUE=DURATION:PT1H
X-Robots-Tag:noindex
X-PUBLISHED-TTL:PT1H
BEGIN:VTIMEZONE
TZID:Europe/Madrid
BEGIN:DAYLIGHT
TZOFFSETFROM:+0100
TZOFFSETTO:+0200
TZNAME:CEST
DTSTART:20230326T010000
END:DAYLIGHT
BEGIN:STANDARD
TZOFFSETFROM:+0200
TZOFFSETTO:+0100
TZNAME:CET
DTSTART:20231029T010000
END:STANDARD
BEGIN:DAYLIGHT
TZOFFSETFROM:+0100
TZOFFSETTO:+0200
TZNAME:CEST
DTSTART:20240331T010000
END:DAYLIGHT
BEGIN:STANDARD
TZOFFSETFROM:+0200
TZOFFSETTO:+0100
TZNAME:CET
DTSTART:20241027T010000
END:STANDARD
BEGIN:DAYLIGHT
TZOFFSETFROM:+0100
TZOFFSETTO:+0200
TZNAME:CEST
DTSTART:20250330T010000
END:DAYLIGHT
BEGIN:STANDARD
TZOFFSETFROM:+0200
TZOFFSETTO:+0100
TZNAME:CET
DTSTART:20251026T010000
END:STANDARD
END:VTIMEZONE
BEGIN:VEVENT
DTSTART;TZID=Europe/Madrid:20241010T200000
DTEND;TZID=Europe/Madrid:20241010T220000
DTSTAMP:20260422T190450
CREATED:20240925T133957Z
LAST-MODIFIED:20241006T091926Z
UID:10001264-1728590400-1728597600@vinoycompania.com
SUMMARY:Whiskies del Mundo Tercera Cata. Whisky Irlandés.
DESCRIPTION:Te invitamos a la tercera cata del ciclo WHISKIES DEL MUNDO:\nEl jueves 10 de octubre a las 20h. \nEn esta cata profundizaremos en el whisky irlandés\, apreciando a ciegas seis expresiones que te permitirán conocer las diferencias que esta región aportan al mundo del whisky. Muy probablemente—al mismo tiempo debatible—la cuna del whisky\, Irlanda fue el lider de la industria durante el siglo XIX\, pero una serie de eventos desafortunados casi la hace cerrar completamente hacia los años 60s. Por suerte\, esto no sucedió\, y en los últimos años la industria irlandesa ha experimentado un renacer\, impulsado tanto por una exploración de su tradición\, como por la innovación\, con resultados de los que debieramos ser testigos. Y ser testigos es lo que vamos a hacer en esta cata. \nLa cata será presentada por CARLOS LIÉVANO\, Head Bartender de Masaru\, un bar del barrio madrileño de Salesas donde cuentan con una de las más amplias selecciones de whisky japonés en Madrid (más de 30 expresiones y contando). Ofrecer whisky japonés en Madrid es un reto y comprender el gusto del comensal para ofrecerle nuevas expresiones ideales es un arte. \nEsta cata del mundo organizada por Vino & Compañía se apoya en la experiencia de Carlos para escoger con esmero expresiones diversas\, de forma independiente y sin representar ninguna de las marcas\, con el fin de lograr una cata altamente informativa e inusual. \nEsta es la tercera cata del ciclo de whiskies del mundo\, que te permitirá explorar el mundo del whisk(e)y como seguramente no lo has hecho antes. En esta cata obtendrás un tercer sello en tu pasaporte de catas\, con el que podrás acceder con un importante descuento para la cata final del ciclo\, que no te querrás perder. ¡No olvides traer contigo tu pasaporte de catas! Y si esta es tu primera cata\, ¡no olvides tramitar el tuyo al llegar! \nLa cata tendrá un costo de 50€ (NO canjeables por producto).
URL:https://vinoycompania.com/eventos/whiskies-del-mundo-tercera-cata-whisky-irlandes/
LOCATION:Vino & Compañia\, Plaza de Olavide\, 5\, Chamberí\, Madrid\, Madrid\, 28010\, España
CATEGORIES:Cata Destilados
ATTACH;FMTTYPE=image/jpeg:https://vinoycompania.com/wp-content/uploads/2024/09/0c692955-c50a-4260-a6f5-fa6ae3d7e858.jpg
ORGANIZER;CN="Vino & Compa%C3%B1ia":MAILTO:catas@vinoycompania.com
END:VEVENT
END:VCALENDAR