BEGIN:VCALENDAR
VERSION:2.0
PRODID:-//Vino y Compañía - ECPv6.15.20//NONSGML v1.0//EN
CALSCALE:GREGORIAN
METHOD:PUBLISH
X-ORIGINAL-URL:https://vinoycompania.com
X-WR-CALDESC:Eventos para Vino y Compañía
REFRESH-INTERVAL;VALUE=DURATION:PT1H
X-Robots-Tag:noindex
X-PUBLISHED-TTL:PT1H
BEGIN:VTIMEZONE
TZID:Europe/Madrid
BEGIN:DAYLIGHT
TZOFFSETFROM:+0100
TZOFFSETTO:+0200
TZNAME:CEST
DTSTART:20230326T010000
END:DAYLIGHT
BEGIN:STANDARD
TZOFFSETFROM:+0200
TZOFFSETTO:+0100
TZNAME:CET
DTSTART:20231029T010000
END:STANDARD
BEGIN:DAYLIGHT
TZOFFSETFROM:+0100
TZOFFSETTO:+0200
TZNAME:CEST
DTSTART:20240331T010000
END:DAYLIGHT
BEGIN:STANDARD
TZOFFSETFROM:+0200
TZOFFSETTO:+0100
TZNAME:CET
DTSTART:20241027T010000
END:STANDARD
BEGIN:DAYLIGHT
TZOFFSETFROM:+0100
TZOFFSETTO:+0200
TZNAME:CEST
DTSTART:20250330T010000
END:DAYLIGHT
BEGIN:STANDARD
TZOFFSETFROM:+0200
TZOFFSETTO:+0100
TZNAME:CET
DTSTART:20251026T010000
END:STANDARD
END:VTIMEZONE
BEGIN:VEVENT
DTSTART;TZID=Europe/Madrid:20240711T200000
DTEND;TZID=Europe/Madrid:20240711T220000
DTSTAMP:20260423T002856
CREATED:20240614T144824Z
LAST-MODIFIED:20240711T091647Z
UID:10001229-1720728000-1720735200@vinoycompania.com
SUMMARY:Fresqueo con Santi Rivas (Colectivo Decantado)
DESCRIPTION:📣 ¡Atención #winelovers! 📣 \nNos complace anunciar nuestra cata mas esperada: Fresqueo\, dirigida por el increíble Santi Rivas (Wine Star)\, la mente brillante detrás de Colectivo Decantado. 🍷✨ \n🗓 Fecha: 11 de julio de 2024\, 20h. \n📍Lugar: Vino & Compañía\, plaza de Olavide número 5\, Chamberí (Madrid) \n  \nSanti ha seleccionado personalmente 6 vinos únicos que tienen algo especial que contar y un hilo común son frescos… 🌟 Estos son vinos «raros» y difíciles de encontrar\, y tendrás la oportunidad exclusiva de degustarlos mientras Santi nos guía con su saber hacer  y pasión. \n  \n🎟 ¡Las plazas son limitadas! No pierdas la oportunidad de ser parte de esta experiencia única. \nVen y disfruta de una velada inolvidable en Vino & Compañía. \n¡Salud! 🍇🍷 \n 
URL:https://vinoycompania.com/eventos/fresqueo-con-santi-rivas-colectivo-decantado/
LOCATION:Vino & Compañia\, Plaza de Olavide\, 5\, Chamberí\, Madrid\, Madrid\, 28010\, España
CATEGORIES:Cata con Personaje
ATTACH;FMTTYPE=image/jpeg:https://vinoycompania.com/wp-content/uploads/2024/06/1fd4337a-3420-46c0-958b-af5df11bd6c1.jpg
ORGANIZER;CN="Vino & Compa%C3%B1ia":MAILTO:catas@vinoycompania.com
END:VEVENT
END:VCALENDAR