BEGIN:VCALENDAR
VERSION:2.0
PRODID:-//Vino y Compañía - ECPv6.15.20//NONSGML v1.0//EN
CALSCALE:GREGORIAN
METHOD:PUBLISH
X-WR-CALNAME:Vino y Compañía
X-ORIGINAL-URL:https://vinoycompania.com
X-WR-CALDESC:Eventos para Vino y Compañía
REFRESH-INTERVAL;VALUE=DURATION:PT1H
X-Robots-Tag:noindex
X-PUBLISHED-TTL:PT1H
BEGIN:VTIMEZONE
TZID:Europe/Madrid
BEGIN:DAYLIGHT
TZOFFSETFROM:+0100
TZOFFSETTO:+0200
TZNAME:CEST
DTSTART:20230326T010000
END:DAYLIGHT
BEGIN:STANDARD
TZOFFSETFROM:+0200
TZOFFSETTO:+0100
TZNAME:CET
DTSTART:20231029T010000
END:STANDARD
BEGIN:DAYLIGHT
TZOFFSETFROM:+0100
TZOFFSETTO:+0200
TZNAME:CEST
DTSTART:20240331T010000
END:DAYLIGHT
BEGIN:STANDARD
TZOFFSETFROM:+0200
TZOFFSETTO:+0100
TZNAME:CET
DTSTART:20241027T010000
END:STANDARD
BEGIN:DAYLIGHT
TZOFFSETFROM:+0100
TZOFFSETTO:+0200
TZNAME:CEST
DTSTART:20250330T010000
END:DAYLIGHT
BEGIN:STANDARD
TZOFFSETFROM:+0200
TZOFFSETTO:+0100
TZNAME:CET
DTSTART:20251026T010000
END:STANDARD
END:VTIMEZONE
BEGIN:VEVENT
DTSTART;TZID=Europe/Madrid:20240627T200000
DTEND;TZID=Europe/Madrid:20240627T220000
DTSTAMP:20260423T002235
CREATED:20240613T181004Z
LAST-MODIFIED:20240618T104157Z
UID:10001228-1719518400-1719525600@vinoycompania.com
SUMMARY:Whiskies del Mundo
DESCRIPTION:Te invitamos a la primera cata del ciclo WHISKIES DEL MUNDO: \nEl jueves 27 de junio a las 20h. \nAdemás de las regiones productoras de whisk(e)y usuales\, apreciaremos algunas expresiones destacadas de regiones menos reconocidas. Serán 6 expresiones a catar\, que no te querrás perder\, presentadas por CARLOS LIÉVANO\, Head Bartender de Masaru\, un bar del barrio madrileño de Salesas donde cuentan con una de las más amplias selecciones de whisky japonés en Madrid (más de 30 expresiones y contando). \nOfrecer whisky japonés en Madrid es un reto y comprender el gusto del comensal para ofrecerle nuevas expresiones ideales es un arte. \nEsta cata del mundo organizada por Vino & Compañía se apoya en la experiencia de Carlos para escoger con esmero expresiones diversas\, de forma independiente y sin representar ninguna de las marcas\, con el fin de lograr una cata altamente informativa e inusual. \nEsta solo es la primera de un ciclo de catas que te permitirán explorar el mundo del whisk(e)y como seguramente no lo has hecho antes. \nLa cata inicial tendrá un costo de 40€ (NO canjeables por producto).
URL:https://vinoycompania.com/eventos/whiskies-del-mundo/
LOCATION:Vino & Compañia\, Plaza de Olavide\, 5\, Chamberí\, Madrid\, Madrid\, 28010\, España
CATEGORIES:Cata Destilados
ATTACH;FMTTYPE=image/jpeg:https://vinoycompania.com/wp-content/uploads/2024/06/013f116e-fe13-4053-8de4-86cd8f9ec1ac.jpg
ORGANIZER;CN="Vino & Compa%C3%B1ia":MAILTO:catas@vinoycompania.com
END:VEVENT
END:VCALENDAR