BEGIN:VCALENDAR
VERSION:2.0
PRODID:-//Vino y Compañía - ECPv6.15.20//NONSGML v1.0//EN
CALSCALE:GREGORIAN
METHOD:PUBLISH
X-ORIGINAL-URL:https://vinoycompania.com
X-WR-CALDESC:Eventos para Vino y Compañía
REFRESH-INTERVAL;VALUE=DURATION:PT1H
X-Robots-Tag:noindex
X-PUBLISHED-TTL:PT1H
BEGIN:VTIMEZONE
TZID:Europe/Madrid
BEGIN:DAYLIGHT
TZOFFSETFROM:+0100
TZOFFSETTO:+0200
TZNAME:CEST
DTSTART:20230326T010000
END:DAYLIGHT
BEGIN:STANDARD
TZOFFSETFROM:+0200
TZOFFSETTO:+0100
TZNAME:CET
DTSTART:20231029T010000
END:STANDARD
BEGIN:DAYLIGHT
TZOFFSETFROM:+0100
TZOFFSETTO:+0200
TZNAME:CEST
DTSTART:20240331T010000
END:DAYLIGHT
BEGIN:STANDARD
TZOFFSETFROM:+0200
TZOFFSETTO:+0100
TZNAME:CET
DTSTART:20241027T010000
END:STANDARD
BEGIN:DAYLIGHT
TZOFFSETFROM:+0100
TZOFFSETTO:+0200
TZNAME:CEST
DTSTART:20250330T010000
END:DAYLIGHT
BEGIN:STANDARD
TZOFFSETFROM:+0200
TZOFFSETTO:+0100
TZNAME:CET
DTSTART:20251026T010000
END:STANDARD
END:VTIMEZONE
BEGIN:VEVENT
DTSTART;TZID=Europe/Madrid:20240620T200000
DTEND;TZID=Europe/Madrid:20240620T220000
DTSTAMP:20260423T001722
CREATED:20240610T190127Z
LAST-MODIFIED:20240619T152015Z
UID:10001219-1718913600-1718920800@vinoycompania.com
SUMMARY:Vertical La Coulée de Serrant - Nicolas Joly
DESCRIPTION:El jueves 20 de junio a las 20:00 horas\, te invitamos a una experiencia única con los extraordinarios vinos de Nicolas Joly\, pionero en la agricultura biodinámica en el Loira. 🌿🍷 \n👨‍🏫 La cata será dirigida por Ugo\, el CEO de la importadora L’EXCELLENCE. Tendrás la oportunidad de explorar una vertical del prestigioso vino LA COULÉE DE SERRANT\, con las siguientes añadas: 2007\, 2008\, 2010\, 2013\, 2019 y 2021. Descubre sus secretos desde la producción hasta la crianza. \n🌍🍇 Nicolas Joly cultiva sus viñedos en la histórica parcela de Coulée de Serrant en el Valle del Loira\, Francia. Sus vinos son un reflejo del terroir único y de su compromiso con prácticas biodinámicas\, que respetan el equilibrio natural de la viña. La viticultura biodinámica\, de la que Joly es pionero\, se basa en principios ecológicos y holísticos que buscan mantener la vitalidad del suelo y la salud de las vides. \n🔖 ¡Las plazas son limitadas! No te pierdas esta oportunidad de degustar y aprender sobre unos de los vinos más auténticos y singulares del mundo. \n¿Cuándo? Jueves 20 de junio a las 20:00h.\n¿Dónde? Vino & Compañía\, Plaza de Olavide 5\, Chamberí (Madrid).\nPrecio: 85€ por persona.
URL:https://vinoycompania.com/eventos/vertical-nicolas-joly-cata-vinos-en-madrid-plaza-de-olavide-chamberi-vinoycompania/
LOCATION:Vino & Compañia\, Plaza de Olavide\, 5\, Chamberí\, Madrid\, Madrid\, 28010\, España
CATEGORIES:Cata con Personaje
ATTACH;FMTTYPE=image/jpeg:https://vinoycompania.com/wp-content/uploads/2024/06/foto-scaled.jpg
ORGANIZER;CN="Vino & Compa%C3%B1ia":MAILTO:catas@vinoycompania.com
END:VEVENT
END:VCALENDAR