BEGIN:VCALENDAR
VERSION:2.0
PRODID:-//Vino y Compañía - ECPv6.15.20//NONSGML v1.0//EN
CALSCALE:GREGORIAN
METHOD:PUBLISH
X-WR-CALNAME:Vino y Compañía
X-ORIGINAL-URL:https://vinoycompania.com
X-WR-CALDESC:Eventos para Vino y Compañía
REFRESH-INTERVAL;VALUE=DURATION:PT1H
X-Robots-Tag:noindex
X-PUBLISHED-TTL:PT1H
BEGIN:VTIMEZONE
TZID:Europe/Madrid
BEGIN:DAYLIGHT
TZOFFSETFROM:+0100
TZOFFSETTO:+0200
TZNAME:CEST
DTSTART:20230326T010000
END:DAYLIGHT
BEGIN:STANDARD
TZOFFSETFROM:+0200
TZOFFSETTO:+0100
TZNAME:CET
DTSTART:20231029T010000
END:STANDARD
BEGIN:DAYLIGHT
TZOFFSETFROM:+0100
TZOFFSETTO:+0200
TZNAME:CEST
DTSTART:20240331T010000
END:DAYLIGHT
BEGIN:STANDARD
TZOFFSETFROM:+0200
TZOFFSETTO:+0100
TZNAME:CET
DTSTART:20241027T010000
END:STANDARD
BEGIN:DAYLIGHT
TZOFFSETFROM:+0100
TZOFFSETTO:+0200
TZNAME:CEST
DTSTART:20250330T010000
END:DAYLIGHT
BEGIN:STANDARD
TZOFFSETFROM:+0200
TZOFFSETTO:+0100
TZNAME:CET
DTSTART:20251026T010000
END:STANDARD
END:VTIMEZONE
BEGIN:VEVENT
DTSTART;TZID=Europe/Madrid:20241102T210000
DTEND;TZID=Europe/Madrid:20241102T230000
DTSTAMP:20260422T172919
CREATED:20240819T164619Z
LAST-MODIFIED:20241114T122518Z
UID:10001246-1730581200-1730588400@vinoycompania.com
SUMMARY:Cata Maridaje con Quesos
DESCRIPTION:Hola #WineLovers  \n  \n¿sabías que una de las combinaciones más exquisitas es el maridaje entre vino y queso? 🧀🍷 \nEn Vino & Compañía llevamos 14 años perfeccionando nuestra Cata Maridaje con Quesos todos los sábados a las 21h. 🎉 ¿Te imaginas la cantidad de sabores y experiencias que hemos creado en todo este tiempo? 😍 \nY si los quesos son de los mejores artesanos\, los vinos no se quedan atrás. Andrés\, nuestro maestro del maridaje\, con su vasta experiencia\, selecciona a la perfección qué vinos acompañan estos tesoros lácteos. 🧀🍷 La explosión de sabores es un viaje garantizado. 🌍✨ \n¿Te apuntas a la próxima? Reserva tu plaza ahora mismo en 👉 vinoycompania.com/catas y vive una experiencia única. 🚀 \n#WineLovers #CheeseAndWine #WineTasting #FoodPairing #CheeseLovers #WineExperience
URL:https://vinoycompania.com/eventos/cata-maridaje-con-quesos-17/
LOCATION:Vino & Compañia\, Plaza de Olavide\, 5\, Chamberí\, Madrid\, Madrid\, 28010\, España
CATEGORIES:Cata Maridaje
ATTACH;FMTTYPE=image/jpeg:https://vinoycompania.com/wp-content/uploads/2024/06/07366814-2d3d-4d95-970e-b8ea6863db77.jpg
ORGANIZER;CN="Vino & Compa%C3%B1ia":MAILTO:catas@vinoycompania.com
END:VEVENT
BEGIN:VEVENT
DTSTART;TZID=Europe/Madrid:20241106T200000
DTEND;TZID=Europe/Madrid:20241106T220000
DTSTAMP:20260422T172919
CREATED:20241014T170237Z
LAST-MODIFIED:20241017T112620Z
UID:10001268-1730923200-1730930400@vinoycompania.com
SUMMARY:Bodegas WILLIAMS & HUMBERT
DESCRIPTION:Cata de Bodegas WILLIAMS & HUMBERT 🎩 \nEl próximo miércoles 6 de noviembre de 2024 a las 20h\, en Vino & Compañía\, presentamos una cata única de una de las bodegas más icónicas de Jerez: WILLIAMS & HUMBERT. No te pierdas esta experiencia donde recorreremos la historia y el carácter de seis vinos de añada exclusivos\, seleccionados por Cármen Fandiño\, Directora comercial de la bodega. 👔 \n  \nWilliams & Humbert: una historia de tradición y excelencia 💎 \nFundada en 1877\, Bodegas WILLIAMS & HUMBERT ha sido testigo de más de un siglo de evolución en el mundo del vino. Esta bodega histórica es reconocida mundialmente por sus jereces\, y su legado está profundamente entrelazado con la tradición vinícola de Jerez. 📸 \n  \nSeis vinos\, seis joyas enológicas 💍 \nEn esta cata exclusiva\, probaremos seis vinos de añada cuidadosamente seleccionados. Cada uno de estos vinos representa una parcela del legado enológico de WILLIAMS & HUMBERT: \n\nFINO AÑINA 2017 – 20\,50 €\nFINO CARRASCAL 2017 – 21\,50 €\nFINO CAMPANILLERO 2012 – 33\,50 €\nAMONTILLADO 2001 – 45\,90 €\nOLOROSO 2012 – 22\,50 €\nPALO CORTADO 2002 – 77\,90 €\n\nSerá un viaje sensorial que revelará la diversidad y riqueza de los vinos jerezanos. \n  \nReserva tu plaza ahora  🖥 \nSi eres amante del vino de Jerez\, ¡esta cata es imprescindible! Reserva tu plaza en la cata de Bodegas WILLIAMS & HUMBERT y vive una experiencia irrepetible. Las plazas son limitadas.  📧 \n  \n  \n¡Salud! 🍷 \n  \n  \n#VinoJerezano #WilliamsAndHumbert #CataDeVinos #JerezSherry #WineExperience #VinosDeEspaña \n 
URL:https://vinoycompania.com/eventos/cata-bodegas-williams-humbert/
LOCATION:Vino & Compañia\, Plaza de Olavide\, 5\, Chamberí\, Madrid\, Madrid\, 28010\, España
CATEGORIES:Cata con Bodega
ATTACH;FMTTYPE=image/jpeg:https://vinoycompania.com/wp-content/uploads/2024/10/William-Humbert.jpg
ORGANIZER;CN="Vino & Compa%C3%B1ia":MAILTO:catas@vinoycompania.com
END:VEVENT
BEGIN:VEVENT
DTSTART;TZID=Europe/Madrid:20241107T200000
DTEND;TZID=Europe/Madrid:20241107T220000
DTSTAMP:20260422T172919
CREATED:20241017T114424Z
LAST-MODIFIED:20241017T120228Z
UID:10001269-1731009600-1731016800@vinoycompania.com
SUMMARY:Whiskies del Mundo Quinta Cata: Escocia\, El Retorno (Segunda Parte).
DESCRIPTION:Te invitamos a la quinta cata del ciclo WHISKIES DEL MUNDO:\nEl jueves 7 de noviembre a las 20h. \nEn esta cata regresamos a Escocia\, apreciando a ciegas seis nuevas expresiones de whisky escoces. En esta oportunidad realizaremos un recorrido por su amplia geografía\, apreciando lo nuevo\, lo raro\, lo remoto\, lo escaso. Pocas veces una segunda parte supera a la original\, pero esta cata será una de ellas. \nLa cata será presentada por CARLOS LIÉVANO\, Head Bartender de Masaru\, un bar del barrio madrileño de Salesas donde cuentan con una de las más amplias selecciones de whisky japonés en Madrid (más de 30 expresiones y contando). «Ofrecer whisky japonés en Madrid es un reto y comprender el gusto del comensal para ofrecerle nuevas expresiones ideales es un arte». \nEsta cata del mundo organizada por Vino & Compañía se apoya en la experiencia de Carlos para escoger con esmero expresiones diversas\, de forma independiente y sin representar ninguna de las marcas\, con el fin de lograr una cata altamente informativa e inusual. \nEsta es la quinta cata del ciclo de whiskies del mundo\, que te permitirá explorar el mundo del whisk(e)y como seguramente no lo has hecho antes. En esta cata obtendrás un quinto sello en tu pasaporte de catas\, con el que podrás acceder con un descuento para la cata final del ciclo\, que no te querrás perder. ¡No olvides traer contigo tu pasaporte de catas! Y si esta es tu primera cata\, ¡no olvides tramitar el tuyo al llegar! \nLa cata tendrá un precio de 60€. \n  \n#WhiskyLovers \n#WhiskyWednesday \n#ScotchWhisky \n#Vinoycompañia\n#SingleMaltWhisky \n#WhiskyTasting
URL:https://vinoycompania.com/eventos/whiskies-del-mundo-quinta-cata-escocia-segunda-parte/
LOCATION:Vino & Compañia\, Plaza de Olavide\, 5\, Chamberí\, Madrid\, Madrid\, 28010\, España
CATEGORIES:Cata Destilados
ATTACH;FMTTYPE=image/jpeg:https://vinoycompania.com/wp-content/uploads/2024/07/IMG_8102.jpg
ORGANIZER;CN="Vino & Compa%C3%B1ia":MAILTO:catas@vinoycompania.com
END:VEVENT
BEGIN:VEVENT
DTSTART;TZID=Europe/Madrid:20241109T210000
DTEND;TZID=Europe/Madrid:20241109T230000
DTSTAMP:20260422T172919
CREATED:20240819T164839Z
LAST-MODIFIED:20241026T105315Z
UID:10001247-1731186000-1731193200@vinoycompania.com
SUMMARY:Cata Maridaje con Quesos
DESCRIPTION:Hola #WineLovers  \n  \n¿sabías que una de las combinaciones más exquisitas es el maridaje entre vino y queso? 🧀🍷 \nEn Vino & Compañía llevamos 14 años perfeccionando nuestra Cata Maridaje con Quesos todos los sábados a las 21h. 🎉 ¿Te imaginas la cantidad de sabores y experiencias que hemos creado en todo este tiempo? 😍 \nY si los quesos son de los mejores artesanos\, los vinos no se quedan atrás. Andrés\, nuestro maestro del maridaje\, con su vasta experiencia\, selecciona a la perfección qué vinos acompañan estos tesoros lácteos. 🧀🍷 La explosión de sabores es un viaje garantizado. 🌍✨ \n¿Te apuntas a la próxima? Reserva tu plaza ahora mismo en 👉 vinoycompania.com/catas y vive una experiencia única. 🚀 \n#WineLovers #CheeseAndWine #WineTasting #FoodPairing #CheeseLovers #WineExperience
URL:https://vinoycompania.com/eventos/cata-maridaje-con-quesos-18/
LOCATION:Vino & Compañia\, Plaza de Olavide\, 5\, Chamberí\, Madrid\, Madrid\, 28010\, España
CATEGORIES:Cata Maridaje
ATTACH;FMTTYPE=image/jpeg:https://vinoycompania.com/wp-content/uploads/2024/06/77db46ed-bf70-425b-923d-c4298cad9d74.jpg
ORGANIZER;CN="Vino & Compa%C3%B1ia":MAILTO:catas@vinoycompania.com
END:VEVENT
BEGIN:VEVENT
DTSTART;TZID=Europe/Madrid:20241113T200000
DTEND;TZID=Europe/Madrid:20241113T220000
DTSTAMP:20260422T172919
CREATED:20241022T112154Z
LAST-MODIFIED:20241110T163437Z
UID:10001271-1731528000-1731535200@vinoycompania.com
SUMMARY:Ramiro Ibáñez en Vino & Compañía ❤
DESCRIPTION:El próximo miércoles 13 de noviembre a las 20h. en Vino & Compañía\, tenemos el honor de recibir a uno de los grandes nombres del Marco de Jerez: Ramiro Ibáñez. Una cata que nos ha costado mucho esfuerzo organizar\, pero finalmente\, ¡lo hemos conseguido! Prepárate para una experiencia única con vinos que reflejan la pureza y la riqueza de este gran terroir 🍇✨. \n  \nRamiro Ibáñez: el retorno a las raíces del Marco de Jerez \nPara Ramiro Ibáñez\, la clave de su proyecto siempre ha sido clara: la expresión auténtica del terruño. Con una enología que nace del respeto por la tierra y las tradiciones de la zona 🌿🍷\, Ramiro empezó su bodega\, conocida en su origen como Cota 45\, tras años de experiencia en diferentes bodegas de todo el mundo 🌍. Su objetivo es claro: recuperar lo mejor de los suelos y las uvas del Marco de Jerez\, ofreciendo vinos que sean un reflejo fiel de su tierra y su historia 📜. \n  \nLos vinos que vamos a catar \nRamiro ha seleccionado seis ejemplos que representan lo mejor de su bodega y su enfoque de respeto por el terruño 🍷: \n– El Reventón 2023 – 23\,50 €\n– Paganilla 2023 – 23\,50 €\n– Miraflores 2023 – 23\,50 €\n– Caserío 2023 – 34\,50 €\n– Carrascal 2020 – 56\,90 €\n– Agostado Palo Cortado 2020 – 56\,90 € \nCada uno de estos vinos te llevará en un viaje sensorial por el corazón del Marco de Jerez\, destacando por su personalidad\, complejidad y conexión con la tierra 🌱🍇. \n  \nReserva tu plaza ahora \nNo te pierdas esta cata exclusiva con Ramiro Ibáñez. Reserva tu plaza cuanto antes\, porque esta es una oportunidad única para descubrir los vinos que están revolucionando el panorama de Jerez 🍷✨. ¡Las plazas son limitadas! \n  \n¡Salud! 🍷 \n  \n#VinosDeJerez  \n#RamiroIbanez  \n#CataDeVinos  \n#JerezSherry  \n#WineExperience  \n#VinosDeAutor \n#Vinoycompañia
URL:https://vinoycompania.com/eventos/ramiro-ibanez-en-vino-compania-%e2%9d%a4/
LOCATION:Vino & Compañia\, Plaza de Olavide\, 5\, Chamberí\, Madrid\, Madrid\, 28010\, España
CATEGORIES:Cata con Bodega
ATTACH;FMTTYPE=image/jpeg:https://vinoycompania.com/wp-content/uploads/2024/10/Ramiro-Ibanez-en-Vino-Compania-.jpg
ORGANIZER;CN="Vino & Compa%C3%B1ia":MAILTO:catas@vinoycompania.com
END:VEVENT
BEGIN:VEVENT
DTSTART;TZID=Europe/Madrid:20241114T200000
DTEND;TZID=Europe/Madrid:20241114T220000
DTSTAMP:20260422T172919
CREATED:20241011T165942Z
LAST-MODIFIED:20241105T121626Z
UID:10001266-1731614400-1731621600@vinoycompania.com
SUMMARY:Cata de Champagnes Blanc de Blancs por Ugo de L’EXCELLENCE
DESCRIPTION:Cata de Champagnes Blanc de Blancs por Ugo de L’EXCELLENCE – 14 de noviembre de 2024 a las 20h. \nSi eres amante del champagne\, no puedes perderte esta cata exclusiva en Vino & Compañía. El próximo 14 de noviembre de 2024 a las 20h\, Ugo de L’EXCELLENCE presentará una selección excepcional de champagnes blanc de blancs\, cuidadosamente elegidos tras años de dedicación y pasión por la región de Champagne. \n  \nUgo y su búsqueda incansable por los mejores champagnes \nDesde hace más de 14 años\, Ugo ha hecho de la región de Champagne su segunda casa. Viajando dos veces al año a esta tierra mágica\, ha desarrollado una conexión única con los pequeños productores que representan lo mejor de cada terroir. Su compromiso es descubrir champagnes que no solo sean excelentes\, sino que también cuenten una historia. Y ahora\, por primera vez\, nos trae una selección personal de sus blanc de blancs preferidos. \n  \nSiete champagnes\, siete historias \nEn esta cata\, Ugo ha seleccionado siete productores únicos\, cada uno con su interpretación del blanc de blancs\, para que podamos explorar juntos cómo los diferentes suelos y pueblos influyen en el carácter de cada botella. Será un recorrido sensorial por la diversidad y la riqueza de la Champagne\, donde cada copa desvelará nuevas capas de complejidad y frescura. Los protagonistas son: \n\nCHAMPAGNE COUTIER – AMBONNAY GRAND CRU – BLANC DE BLANCS GRAND CRU BRUT – 59\,50 €\nCHAMPAGNE WILLIAM SAINTOT – AVENAY VAL D´OR PREMIER CRU – BLANC DE BLANCS PREMIER CRU EXTRA BRUT – 53\,90 €\nCHAMPAGNE ASSAILLY – AVIZE GRAND CRU – BRUT NATURE GRAND CRU – 56\,50 €\nCHAMPAGNE LILBERT & FILS – CRAMANT GRAND CRU – GRAND CRU EXTRA BRUT – 64\,50 €\nCHAMPAGNE PIERRE MONCUIT – MESNIL-SUR-OGER GRAND CRU – DELOS GRAND CRU EXTRA BRUT – 57\,90 €\nPAUL LAUNOIS – MESNIL-SUR-OGER GRAND CRU – MONOCHROME GRAND CRU EXTRA BRUT – 68\,50 €\nCHAMPAGNE ASSAILLY – AVIZE GRAND CRU – RESERVE BLANC DE BLANCS GRAND CRU BRUT – 54\,50 €\n\n  \nReserva tu plaza ahora \nReserva tu plaza en la cata de Champagnes Blanc de Blancs y descubre la magia detrás de estos espumosos únicos. Las plazas son limitadas. \n  \n¡Salud! 🍾 \n  \n\n#ChampagneLovers\n#BlancDeBlancs\n#CataDeVinos\n#WineTasting\n#WineExperience\n#Vinoycompañia
URL:https://vinoycompania.com/eventos/cata-de-champagnes-blanc-de-blancs-por-ugo-de-lexcellence/
LOCATION:Vino & Compañia\, Plaza de Olavide\, 5\, Chamberí\, Madrid\, Madrid\, 28010\, España
CATEGORIES:Cata con Bodega
ATTACH;FMTTYPE=image/jpeg:https://vinoycompania.com/wp-content/uploads/2024/10/Ugo-champagne.jpg
ORGANIZER;CN="Vino & Compa%C3%B1ia":MAILTO:catas@vinoycompania.com
END:VEVENT
BEGIN:VEVENT
DTSTART;TZID=Europe/Madrid:20241116T210000
DTEND;TZID=Europe/Madrid:20241116T230000
DTSTAMP:20260422T172919
CREATED:20240819T165001Z
LAST-MODIFIED:20241111T171455Z
UID:10001248-1731790800-1731798000@vinoycompania.com
SUMMARY:Cata Maridaje con Quesos
DESCRIPTION:Hola #WineLovers  \n  \n¿sabías que una de las combinaciones más exquisitas es el maridaje entre vino y queso? 🧀🍷 \nEn Vino & Compañía llevamos 14 años perfeccionando nuestra Cata Maridaje con Quesos todos los sábados a las 21h. 🎉 ¿Te imaginas la cantidad de sabores y experiencias que hemos creado en todo este tiempo? 😍 \nY si los quesos son de los mejores artesanos\, los vinos no se quedan atrás. Andrés\, nuestro maestro del maridaje\, con su vasta experiencia\, selecciona a la perfección qué vinos acompañan estos tesoros lácteos. 🧀🍷 La explosión de sabores es un viaje garantizado. 🌍✨ \n¿Te apuntas a la próxima? Reserva tu plaza ahora mismo en 👉 vinoycompania.com/catas y vive una experiencia única. 🚀 \n#WineLovers #CheeseAndWine #WineTasting #FoodPairing #CheeseLovers #WineExperience
URL:https://vinoycompania.com/eventos/cata-maridaje-con-quesos-19/
LOCATION:Vino & Compañia\, Plaza de Olavide\, 5\, Chamberí\, Madrid\, Madrid\, 28010\, España
CATEGORIES:Cata Maridaje
ATTACH;FMTTYPE=image/jpeg:https://vinoycompania.com/wp-content/uploads/2024/03/vino-compania_tienda-vinos_olavide-madrid_cursos-catas-8.jpg
ORGANIZER;CN="Vino & Compa%C3%B1ia":MAILTO:catas@vinoycompania.com
END:VEVENT
BEGIN:VEVENT
DTSTART;TZID=Europe/Madrid:20241119T200000
DTEND;TZID=Europe/Madrid:20241119T220000
DTSTAMP:20260422T172919
CREATED:20241010T112218Z
LAST-MODIFIED:20241119T084721Z
UID:10001265-1732046400-1732053600@vinoycompania.com
SUMMARY:Terroir al Límit
DESCRIPTION:Cata Terroir al Límit 🌳 \n  \n¿Te apasiona descubrir los secretos de las mejores bodegas del mundo? El próximo 19 de noviembre de 2024 a las 20h\, en Vino & Compañía\, tenemos el placer de presentar una cata muy especial de la bodega Terroir al Límit\, ubicada en la prestigiosa D.O.Q. Priorat. ¡Una oportunidad única para sumergirse en la esencia de este terroir incomparable! 🏔 \n  \nDominik Huber y su viaje al alma del vino ❤️ \n  \nTodo comenzó cuando Dominik Huber\, un joven de Múnich\, decidió que su vida tomaría un rumbo distinto. El mundo del vino lo llamó\, y él no pudo resistirse. ¿Por qué vino? ¿Por qué el Priorat? Tal vez fue la intensidad del paisaje\, los suelos de pizarra o la ancestral cultura vinícola que lo atrapó para siempre. Desde entonces\, Dominik ha dejado su huella en el Priorat\, creando vinos que reflejan la pureza del terroir\, sin artificios ni atajos. 🌿 \n  \nLa filosofía de Terroir al Limit: vuelta a lo esencial 🐛 \n  \nEn un mundo donde las bodegas tienden a seguir modas y tecnologías\, Terroir al Limit propone un enfoque radicalmente distinto. Su filosofía es sencilla pero poderosa: dejar que el terroir hable. Huber y su equipo creen en una viticultura respetuosa\, sin aditivos\, donde las uvas fermentan de manera natural y los vinos expresan de manera fiel el suelo y el clima del Priorat. Cada botella cuenta una historia: la historia del equilibrio entre la naturaleza y el ser humano. 🍃 \n  \nLos protagonistas\, las expresiones puras del terroir\, que vamos a disfrutar son: \n\nTERRA DE CUQUES BLANC 2022 … 32.50€\nTERRA DE CUQUES NEGRE 2021 … 38.90€\nARBOSSAR 2021… 69.90€\nDITS DEL TERRA 2021 … 69.90€\nPEDRA DE GUIX 2022… 59.50€\nROC D’AUBAGA 2017 … 39.90€\n\n  \nReserva tu plaza ahora 🖥 \n  \nNo pierdas la oportunidad de vivir esta experiencia única. Reserva tu plaza en la cata de Terroir al Limit  y descubre por qué esta bodega ha conquistado los paladares más exigentes del mundo. ¡Las plazas son limitadas! 📧 \n  \nEntra ahora en vinoycompania.com/catas y asegura tu lugar en esta noche mágica. 🪄 \n  \n\n#CataDeVinos\n#VinoNatural\n#Priorat\n#TerroirAlLimit\n#WineTasting\n#VinosDeEspaña\n#Vinoycompañia
URL:https://vinoycompania.com/eventos/terroir-al-limit-cata-de-la-bodega-en-madrid-doq-priorat/
LOCATION:Vino & Compañia\, Plaza de Olavide\, 5\, Chamberí\, Madrid\, Madrid\, 28010\, España
CATEGORIES:Cata con Bodega
ATTACH;FMTTYPE=image/jpeg:https://vinoycompania.com/wp-content/uploads/2024/10/Dominik.jpg
ORGANIZER;CN="Vino & Compa%C3%B1ia":MAILTO:catas@vinoycompania.com
END:VEVENT
BEGIN:VEVENT
DTSTART;TZID=Europe/Madrid:20241121T200000
DTEND;TZID=Europe/Madrid:20241121T220000
DTSTAMP:20260422T172919
CREATED:20241017T120946Z
LAST-MODIFIED:20241017T121038Z
UID:10001270-1732219200-1732226400@vinoycompania.com
SUMMARY:Whiskies del Mundo Sexta Cata: Japón. 🇯🇵
DESCRIPTION:Te invitamos a la sexta cata del ciclo WHISKIES DEL MUNDO: Japón. 🇯🇵 \nEl jueves 21 de noviembre a las 20h. \nEn esta cata viajamos a Japón\, apreciando a ciegas seis nuevas expresiones de su codiciado y meticuloso whisky. Con unos origenes que lo vinculan a la tradición escocesa\, y nutrido por una cultura con un paladar específico\, en las últimas décadas el whisky japones ha pasado de ser desconocido\, de ser curiosidad\, a ser uno de los whiskies más apetecidos del mundo. Y todo esto potenciado por el usual impulso japones hacia el mejoramiento\, la innovación\, la excelencia. El resultado es un whisky a la vez reconocible\, como sorprendente. \nLa cata será presentada por CARLOS LIÉVANO\, Head Bartender de Masaru\, un bar del barrio madrileño de Salesas donde cuentan con una de las más amplias selecciones de whisky japonés en Madrid (más de 30 expresiones y contando). «Ofrecer whisky japonés en Madrid es un reto y comprender el gusto del comensal para ofrecerle nuevas expresiones ideales es un arte». \nEsta cata del mundo organizada por Vino & Compañía se apoya en la experiencia de Carlos para escoger con esmero expresiones diversas\, de forma independiente y sin representar ninguna de las marcas\, con el fin de lograr una cata altamente informativa e inusual. \nEsta es la sexta cata del ciclo de whiskies del mundo\, que te permitirá explorar el mundo del whisk(e)y como seguramente no lo has hecho antes. En esta cata obtendrás un sexto sello en tu pasaporte de catas\, con el que podrás acceder con un descuento para la cata final del ciclo\, que no te querrás perder. ¡No olvides traer contigo tu pasaporte de catas! Y si esta es tu primera cata\, ¡no olvides tramitar el tuyo al llegar! \nLa cata tendrá un precio de 60€. \n  \n#WhiskyLovers\n#WhiskyWednesday\n#ScotchWhisky\n#Vinoycompañia\n#SingleMaltWhisky\n#WhiskyTasting
URL:https://vinoycompania.com/eventos/whiskies-del-mundo-sexta-cata-japon-%f0%9f%87%af%f0%9f%87%b5/
LOCATION:Vino & Compañia\, Plaza de Olavide\, 5\, Chamberí\, Madrid\, Madrid\, 28010\, España
CATEGORIES:Cata Destilados
ATTACH;FMTTYPE=image/jpeg:https://vinoycompania.com/wp-content/uploads/2024/08/ce3394cb-f963-4469-b2f9-36701fb6ae98.jpg
ORGANIZER;CN="Vino & Compa%C3%B1ia":MAILTO:catas@vinoycompania.com
END:VEVENT
BEGIN:VEVENT
DTSTART;TZID=Europe/Madrid:20241123T210000
DTEND;TZID=Europe/Madrid:20241123T230000
DTSTAMP:20260422T172919
CREATED:20240819T165448Z
LAST-MODIFIED:20241112T182226Z
UID:10001249-1732395600-1732402800@vinoycompania.com
SUMMARY:Cata Maridaje con Quesos
DESCRIPTION:Hola #WineLovers  \n  \n¿sabías que una de las combinaciones más exquisitas es el maridaje entre vino y queso? 🧀🍷 \nEn Vino & Compañía llevamos 14 años perfeccionando nuestra Cata Maridaje con Quesos todos los sábados a las 21h. 🎉 ¿Te imaginas la cantidad de sabores y experiencias que hemos creado en todo este tiempo? 😍 \nY si los quesos son de los mejores artesanos\, los vinos no se quedan atrás. Andrés\, nuestro maestro del maridaje\, con su vasta experiencia\, selecciona a la perfección qué vinos acompañan estos tesoros lácteos. 🧀🍷 La explosión de sabores es un viaje garantizado. 🌍✨ \n¿Te apuntas a la próxima? Reserva tu plaza ahora mismo en 👉 vinoycompania.com/catas y vive una experiencia única. 🚀 \n#WineLovers #CheeseAndWine #WineTasting #FoodPairing #CheeseLovers #WineExperience
URL:https://vinoycompania.com/eventos/cata-maridaje-con-quesos-20/
LOCATION:Vino & Compañia\, Plaza de Olavide\, 5\, Chamberí\, Madrid\, Madrid\, 28010\, España
CATEGORIES:Cata Maridaje
ATTACH;FMTTYPE=image/jpeg:https://vinoycompania.com/wp-content/uploads/2024/06/da2fa106-dd9c-48c2-b3a1-b0372bd55eb5.jpg
ORGANIZER;CN="Vino & Compa%C3%B1ia":MAILTO:catas@vinoycompania.com
END:VEVENT
BEGIN:VEVENT
DTSTART;TZID=Europe/Madrid:20241130T210000
DTEND;TZID=Europe/Madrid:20241130T230000
DTSTAMP:20260422T172919
CREATED:20240819T165805Z
LAST-MODIFIED:20241026T105547Z
UID:10001250-1733000400-1733007600@vinoycompania.com
SUMMARY:Cata Maridaje con Quesos
DESCRIPTION:Hola #WineLovers  \n  \n¿sabías que una de las combinaciones más exquisitas es el maridaje entre vino y queso? 🧀🍷 \nEn Vino & Compañía llevamos 14 años perfeccionando nuestra Cata Maridaje con Quesos todos los sábados a las 21h. 🎉 ¿Te imaginas la cantidad de sabores y experiencias que hemos creado en todo este tiempo? 😍 \nY si los quesos son de los mejores artesanos\, los vinos no se quedan atrás. Andrés\, nuestro maestro del maridaje\, con su vasta experiencia\, selecciona a la perfección qué vinos acompañan estos tesoros lácteos. 🧀🍷 La explosión de sabores es un viaje garantizado. 🌍✨ \n¿Te apuntas a la próxima? Reserva tu plaza ahora mismo en 👉 vinoycompania.com/catas y vive una experiencia única. 🚀 \n#WineLovers #CheeseAndWine #WineTasting #FoodPairing #CheeseLovers #WineExperience
URL:https://vinoycompania.com/eventos/cata-maridaje-con-quesos-21/
LOCATION:Vino & Compañia\, Plaza de Olavide\, 5\, Chamberí\, Madrid\, Madrid\, 28010\, España
CATEGORIES:Cata Maridaje
ATTACH;FMTTYPE=image/jpeg:https://vinoycompania.com/wp-content/uploads/2024/06/07366814-2d3d-4d95-970e-b8ea6863db77.jpg
ORGANIZER;CN="Vino & Compa%C3%B1ia":MAILTO:catas@vinoycompania.com
END:VEVENT
END:VCALENDAR