BEGIN:VCALENDAR
VERSION:2.0
PRODID:-//Vino y Compañía - ECPv6.15.20//NONSGML v1.0//EN
CALSCALE:GREGORIAN
METHOD:PUBLISH
X-ORIGINAL-URL:https://vinoycompania.com
X-WR-CALDESC:Eventos para Vino y Compañía
REFRESH-INTERVAL;VALUE=DURATION:PT1H
X-Robots-Tag:noindex
X-PUBLISHED-TTL:PT1H
BEGIN:VTIMEZONE
TZID:Europe/Madrid
BEGIN:DAYLIGHT
TZOFFSETFROM:+0100
TZOFFSETTO:+0200
TZNAME:CEST
DTSTART:20230326T010000
END:DAYLIGHT
BEGIN:STANDARD
TZOFFSETFROM:+0200
TZOFFSETTO:+0100
TZNAME:CET
DTSTART:20231029T010000
END:STANDARD
BEGIN:DAYLIGHT
TZOFFSETFROM:+0100
TZOFFSETTO:+0200
TZNAME:CEST
DTSTART:20240331T010000
END:DAYLIGHT
BEGIN:STANDARD
TZOFFSETFROM:+0200
TZOFFSETTO:+0100
TZNAME:CET
DTSTART:20241027T010000
END:STANDARD
BEGIN:DAYLIGHT
TZOFFSETFROM:+0100
TZOFFSETTO:+0200
TZNAME:CEST
DTSTART:20250330T010000
END:DAYLIGHT
BEGIN:STANDARD
TZOFFSETFROM:+0200
TZOFFSETTO:+0100
TZNAME:CET
DTSTART:20251026T010000
END:STANDARD
END:VTIMEZONE
BEGIN:VEVENT
DTSTART;TZID=Europe/Madrid:20240907T210000
DTEND;TZID=Europe/Madrid:20240907T230000
DTSTAMP:20260422T175118
CREATED:20240726T093946Z
LAST-MODIFIED:20240726T093946Z
UID:10001235-1725742800-1725750000@vinoycompania.com
SUMMARY:Cata Maridaje con Quesos
DESCRIPTION:Cataremos 6 vinos y 6 quesos de diferente tipo y origen\, y luego haremos el maridaje entre ellos. La cata dura 2 horas.
URL:https://vinoycompania.com/eventos/cata-maridaje-con-quesos-9/
LOCATION:Vino & Compañia\, Plaza de Olavide\, 5\, Chamberí\, Madrid\, Madrid\, 28010\, España
CATEGORIES:Cata Maridaje
ATTACH;FMTTYPE=image/jpeg:https://vinoycompania.com/wp-content/uploads/2024/06/07366814-2d3d-4d95-970e-b8ea6863db77.jpg
ORGANIZER;CN="Vino & Compa%C3%B1ia":MAILTO:catas@vinoycompania.com
END:VEVENT
BEGIN:VEVENT
DTSTART;TZID=Europe/Madrid:20240912T200000
DTEND;TZID=Europe/Madrid:20240912T220000
DTSTAMP:20260422T175118
CREATED:20240712T091716Z
LAST-MODIFIED:20240712T095921Z
UID:10001230-1726171200-1726178400@vinoycompania.com
SUMMARY:Whiskies del Mundo (replay)
DESCRIPTION:Te invitamos a la primera cata del ciclo WHISKIES DEL MUNDO: \nEl jueves 12 de septiembre a las 20h. \nAdemás de las regiones productoras de whisk(e)y usuales\, apreciaremos algunas expresiones destacadas de regiones menos reconocidas. Serán 6 expresiones a catar\, que no te querrás perder\, presentadas por CARLOS LIÉVANO\, Head Bartender de Masaru\, un bar del barrio madrileño de Salesas donde cuentan con una de las más amplias selecciones de whisky japonés en Madrid (más de 30 expresiones y contando). \nOfrecer whisky japonés en Madrid es un reto y comprender el gusto del comensal para ofrecerle nuevas expresiones ideales es un arte. \nEsta cata del mundo organizada por Vino & Compañía se apoya en la experiencia de Carlos para escoger con esmero expresiones diversas\, de forma independiente y sin representar ninguna de las marcas\, con el fin de lograr una cata altamente informativa e inusual. \nEsta solo es la primera de un ciclo de catas que te permitirán explorar el mundo del whisk(e)y como seguramente no lo has hecho antes. \nLa cata inicial tendrá un costo de 40€ (NO canjeables por producto).
URL:https://vinoycompania.com/eventos/whiskies-del-mundo-replay/
LOCATION:Vino & Compañia\, Plaza de Olavide\, 5\, Chamberí\, Madrid\, Madrid\, 28010\, España
CATEGORIES:Cata Destilados
ATTACH;FMTTYPE=image/jpeg:https://vinoycompania.com/wp-content/uploads/2024/07/IMG_8102.jpg
ORGANIZER;CN="Vino & Compa%C3%B1ia":MAILTO:catas@vinoycompania.com
END:VEVENT
BEGIN:VEVENT
DTSTART;TZID=Europe/Madrid:20240914T210000
DTEND;TZID=Europe/Madrid:20240914T230000
DTSTAMP:20260422T175118
CREATED:20240726T094103Z
LAST-MODIFIED:20240726T094103Z
UID:10001236-1726347600-1726354800@vinoycompania.com
SUMMARY:Cata Maridaje con Quesos
DESCRIPTION:Cataremos 6 vinos y 6 quesos de diferente tipo y origen\, y luego haremos el maridaje entre ellos. La cata dura 2 horas.
URL:https://vinoycompania.com/eventos/cata-maridaje-con-quesos-10/
LOCATION:Vino & Compañia\, Plaza de Olavide\, 5\, Chamberí\, Madrid\, Madrid\, 28010\, España
CATEGORIES:Cata Maridaje
ATTACH;FMTTYPE=image/jpeg:https://vinoycompania.com/wp-content/uploads/2024/06/77db46ed-bf70-425b-923d-c4298cad9d74.jpg
ORGANIZER;CN="Vino & Compa%C3%B1ia":MAILTO:catas@vinoycompania.com
END:VEVENT
BEGIN:VEVENT
DTSTART;TZID=Europe/Madrid:20240919T200000
DTEND;TZID=Europe/Madrid:20240919T220000
DTSTAMP:20260422T175118
CREATED:20240801T111754Z
LAST-MODIFIED:20240904T101523Z
UID:10001240-1726776000-1726783200@vinoycompania.com
SUMMARY:La Grandeza del VINO NATURAL con Jimmy Bubbles.
DESCRIPTION:Hola #winelovers. 🍷✨ ¡Tenemos algo muy especial para vosotros en Vino & Compañía! ✨🍷 \n  \nEl próximo 19 de septiembre a las 20h.\, tendremos una cata única: «La Grandeza del VINO NATURAL» con Jimmy Bubbles. 🍇🌿 \n  \nJimmy Bubbles es un personaje fascinante. Antes de sumergirse en el mundo del vino\, era informático y un apasionado del rap\, pero lo que realmente lo define es su amor incondicional por el vino. Jimmy es\, ante todo\, un bebedor de vino; se lo ha bebido todo. A lo largo de los años\, ha transformado su afición en una auténtica devoción. Compañero de cata de Santi Rivas en numerosas ocasiones\, su curiosidad lo llevó a ser uno de los grandes nombres en el panorama del vino natural. \n  \nJimmy no solo se ha destacado como campeón en el Campeonato de España de cata por equipos en 2019 y como tercer puesto en la Cata por Parejas de Vila Viniteca en 2016\, sino que también ha sido una voz influyente en el famoso blog gastronómico «Con el Morro Fino». Hoy en día\, como responsable comercial en Madrid de Cuvée 3000\, Jimmy sigue haciendo lo que más le apasiona: descubrir\, catar\, y compartir los mejores vinos naturales. 🍷📜 \n  \nLo que más nos gusta de Jimmy es que\, además de su impresionante trayectoria\, es un verdadero catador de vinos. Y en esta cata\, nos traerá una selección personal de vinos\, elegidos con su toque único. 🌿🍷 \n  \n🍷✨ Si buscas una cata que combine terroir\, biodinámica y poca intervención… esta es tu oportunidad. Reserva tu plaza ahora para la cata de vinos Naturales de la que mas se va a hablar… 🍇✨ \n  \n¡Salud! 🍷 \n  \n#VinosNaturales #CataDeVinos #JimmyBubbles #WineLovers #VinoYCompañía
URL:https://vinoycompania.com/eventos/lagrandezadelvinonaturalconjimmybubbles/
LOCATION:Vino & Compañia\, Plaza de Olavide\, 5\, Chamberí\, Madrid\, Madrid\, 28010\, España
CATEGORIES:Cata con Personaje
ATTACH;FMTTYPE=image/jpeg:https://vinoycompania.com/wp-content/uploads/2024/08/Jimmy-Bubbles-.jpg
ORGANIZER;CN="Vino & Compa%C3%B1ia":MAILTO:catas@vinoycompania.com
END:VEVENT
BEGIN:VEVENT
DTSTART;TZID=Europe/Madrid:20240921T210000
DTEND;TZID=Europe/Madrid:20240921T230000
DTSTAMP:20260422T175118
CREATED:20240726T094219Z
LAST-MODIFIED:20240726T094219Z
UID:10001237-1726952400-1726959600@vinoycompania.com
SUMMARY:Cata Maridaje con Quesos
DESCRIPTION:Cataremos 6 vinos y 6 quesos de diferente tipo y origen\, y luego haremos el maridaje entre ellos. La cata dura 2 horas.
URL:https://vinoycompania.com/eventos/cata-maridaje-con-quesos-11/
LOCATION:Vino & Compañia\, Plaza de Olavide\, 5\, Chamberí\, Madrid\, Madrid\, 28010\, España
CATEGORIES:Cata Maridaje
ATTACH;FMTTYPE=image/jpeg:https://vinoycompania.com/wp-content/uploads/2024/03/vino-compania_tienda-vinos_olavide-madrid_cursos-catas-8.jpg
ORGANIZER;CN="Vino & Compa%C3%B1ia":MAILTO:catas@vinoycompania.com
END:VEVENT
BEGIN:VEVENT
DTSTART;TZID=Europe/Madrid:20240926T200000
DTEND;TZID=Europe/Madrid:20240926T220000
DTSTAMP:20260422T175118
CREATED:20240812T101232Z
LAST-MODIFIED:20240925T135222Z
UID:10001241-1727380800-1727388000@vinoycompania.com
SUMMARY:Whiskies del Mundo Segunda Cata. Whisky Escocés.
DESCRIPTION:Te invitamos a la segunda cata del ciclo WHISKIES DEL MUNDO: \nEl jueves 26 de septiembre a las 20h. \nEn esta cata haremos una primera profundización del whisky escocés\, apreciando a ciegas seis expresiones menos usuales\, que te permitirán conocer el rango de sabores del whisky y de sus categorías. En este sentido\, esta cata es fundamental para poner en contexto las catas de las otras regiones productoras de whisk(e)y de este ciclo. \nLa cata será presentada por CARLOS LIÉVANO\, Head Bartender de Masaru\, un bar del barrio madrileño de Salesas donde cuentan con una de las más amplias selecciones de whisky japonés en Madrid (más de 30 expresiones y contando). Ofrecer whisky japonés en Madrid es un reto y comprender el gusto del comensal para ofrecerle nuevas expresiones ideales es un arte. \nEsta cata del mundo organizada por Vino & Compañía se apoya en la experiencia de Carlos para escoger con esmero expresiones diversas\, de forma independiente y sin representar ninguna de las marcas\, con el fin de lograr una cata altamente informativa e inusual. \nEsta es la segunda cata del ciclo de whiskies del mundo\, que te permitirán explorar el mundo del whisk(e)y como seguramente no lo has hecho antes. En esta cata obtendrás un segundo sello en tu pasaporte de catas\, que te permitirá acceder con un importante descuento para la cata final del ciclo\, que no te querrás perder. ¡No olvides traer contigo tu pasaporte de catas! Y si esta es tu primera cata\, ¡no olvides tramitar el tuyo al llegar! \nLa cata tendrá un costo de 40€ (NO canjeables por producto).
URL:https://vinoycompania.com/eventos/whiskies-del-mundo-segunda-cata-whisky-escoces/
LOCATION:Vino & Compañia\, Plaza de Olavide\, 5\, Chamberí\, Madrid\, Madrid\, 28010\, España
CATEGORIES:Cata Destilados
ATTACH;FMTTYPE=image/jpeg:https://vinoycompania.com/wp-content/uploads/2024/08/ce3394cb-f963-4469-b2f9-36701fb6ae98.jpg
ORGANIZER;CN="Vino & Compa%C3%B1ia":MAILTO:catas@vinoycompania.com
END:VEVENT
BEGIN:VEVENT
DTSTART;TZID=Europe/Madrid:20240928T210000
DTEND;TZID=Europe/Madrid:20240928T230000
DTSTAMP:20260422T175118
CREATED:20240726T094412Z
LAST-MODIFIED:20240726T094412Z
UID:10001238-1727557200-1727564400@vinoycompania.com
SUMMARY:Cata Maridaje con Quesos
DESCRIPTION:Cataremos 6 vinos y 6 quesos de diferente tipo y origen\, y luego haremos el maridaje entre ellos. La cata dura 2 horas.
URL:https://vinoycompania.com/eventos/cata-maridaje-con-quesos-12/
LOCATION:Vino & Compañia\, Plaza de Olavide\, 5\, Chamberí\, Madrid\, Madrid\, 28010\, España
CATEGORIES:Cata Maridaje
ATTACH;FMTTYPE=image/jpeg:https://vinoycompania.com/wp-content/uploads/2024/06/da2fa106-dd9c-48c2-b3a1-b0372bd55eb5.jpg
ORGANIZER;CN="Vino & Compa%C3%B1ia":MAILTO:catas@vinoycompania.com
END:VEVENT
END:VCALENDAR