BEGIN:VCALENDAR
VERSION:2.0
PRODID:-//Vino y Compañía - ECPv6.15.20//NONSGML v1.0//EN
CALSCALE:GREGORIAN
METHOD:PUBLISH
X-WR-CALNAME:Vino y Compañía
X-ORIGINAL-URL:https://vinoycompania.com
X-WR-CALDESC:Eventos para Vino y Compañía
REFRESH-INTERVAL;VALUE=DURATION:PT1H
X-Robots-Tag:noindex
X-PUBLISHED-TTL:PT1H
BEGIN:VTIMEZONE
TZID:Europe/Madrid
BEGIN:DAYLIGHT
TZOFFSETFROM:+0100
TZOFFSETTO:+0200
TZNAME:CEST
DTSTART:20240331T010000
END:DAYLIGHT
BEGIN:STANDARD
TZOFFSETFROM:+0200
TZOFFSETTO:+0100
TZNAME:CET
DTSTART:20241027T010000
END:STANDARD
BEGIN:DAYLIGHT
TZOFFSETFROM:+0100
TZOFFSETTO:+0200
TZNAME:CEST
DTSTART:20250330T010000
END:DAYLIGHT
BEGIN:STANDARD
TZOFFSETFROM:+0200
TZOFFSETTO:+0100
TZNAME:CET
DTSTART:20251026T010000
END:STANDARD
BEGIN:DAYLIGHT
TZOFFSETFROM:+0100
TZOFFSETTO:+0200
TZNAME:CEST
DTSTART:20260329T010000
END:DAYLIGHT
BEGIN:STANDARD
TZOFFSETFROM:+0200
TZOFFSETTO:+0100
TZNAME:CET
DTSTART:20261025T010000
END:STANDARD
END:VTIMEZONE
BEGIN:VEVENT
DTSTART;TZID=Europe/Madrid:20250424T200000
DTEND;TZID=Europe/Madrid:20250424T220000
DTSTAMP:20260422T012147
CREATED:20250221T123247Z
LAST-MODIFIED:20250325T114703Z
UID:10001321-1745524800-1745532000@vinoycompania.com
SUMMARY:El punto 0 de la sauvignon blanc para el Mundo por Ugo de L´Excellence 🍇
DESCRIPTION:🌟 Descubre la esencia original de la Sauvignon Blanc\nEmbárcate en un viaje sensorial único que te llevará al corazón del Valle del Loira\, la cuna de algunas de las expresiones más clásicas de la Sauvignon Blanc. En esta cata exclusiva\, Ugo Moreno de L’Excellence nos guiará a través de un recorrido por las zonas originales de producción\, donde esta mítica uva se expresa en su forma más auténtica y sorprendente. \n\n\n\n\n\n\n\n\n\n\n\n\n\n🍷 Una Cata Impartida por un Verdadero Experto\nUgo Moreno ha dedicado su carrera a la búsqueda y selección de vinos excepcionales. En esta ocasión\, ha preparado una selección personal de etiquetas representativas de la tradición del Sauvignon Blanc en el Valle del Loira. \n\nSancerre: Conocido por su carácter cítrico\, frescura y notas a pasto recién cortado\, resultantes de un clima frío y suelos que potencian la expresión de frutas verdes y aromas herbáceos.\nPouilly-Fumè: Presenta un mayor volumen en boca y un sutil toque ahumado\, ofreciendo una experiencia sensorial compleja y envolvente.\n\n🍇 El Valle del Loira: Cuna de la Sauvignon Blanc y su Terruño\nEl terroir del Loira es único no solo por su clima\, sino también por la diversidad de sus suelos\, que juegan un papel fundamental en la expresión de la Sauvignon Blanc. En la región destacan tres tipos de suelo: \n\nTerres Blanches («tierra blanca»): Caliza compacta sobre margas kimmeridegianas\, característica de la parte occidental.\nLes Caillottes: Combinación de grava y piedra caliza\, que aporta estructura y mineralidad.\nSílex (pedernal): Presente en los viñedos del este\, que confiere una intensidad mineral distintiva.\n\nCada uno de estos suelos aporta matices únicos\, enriqueciendo la complejidad y la personalidad de los vinos elaborados con Sauvignon Blanc. \n🌞  Los protagonistas serán:\n\nVINCENT PINARD – SANCERRE CUVEE FLORES 2023 – 36\,50 €\nDOMAINE A. CAILBOURDIN – POUILLY-FUMÉ  NANOGYRA 2022 – 31\,50 € \nDOMAINE DU BOUCHOT – POUILLY-FUMÉ TERRES CAILLOTTES 2022 – 46\,90 €\nDOMAINE DU BOUCHOT – POUILLY-FUMÉ MCMLV 2023 – 52\,50 €\nVINCENT PINARD – SANCERRE LE CHÂTEAU 2022 – 74\,50 €\nDOMAINE A. CAILBOURDIN – POUILLY-FUMÉ  SILEX  TRIPTYQUE 2019 – 68\,50 €\n\n🎟 Reserva Tu Plaza\nNo te pierdas esta oportunidad única de explorar la esencia de la Sauvignon Blanc en su lugar de origen\, guiado por un experto que vive y respira esta pasión. \nDetalles del evento:📅 Fecha: Jueves 24 de abril de 2025🕗 Hora: 20:00 h📍 Lugar: Sala de Catas de Vino & Compañía\, Plaza de Olavide número 5\, Chamberí (Madrid)💶 Precio: 50€ por persona🔒 Plazas disponibles: 36 personas \n👉 Reserva tu plaza ahora  y asegura tu lugar para descubrir el punto de partida del mundo de la Sauvignon Blanc. \n¡Salud! 🍷 \n#SauvignonBlanc #CataDeVino #LExcellence #VinoConHistoria #VinoYCultura #VinoExcepcional
URL:https://vinoycompania.com/eventos/el-punto-0-de-la-sauvignon-blanc-para-el-mundo-por-ugo-de-lexcellence/
LOCATION:Vino & Compañia\, Plaza de Olavide\, 5\, Chamberí\, Madrid\, Madrid\, 28010\, España
CATEGORIES:Cata con Personaje
ATTACH;FMTTYPE=image/jpeg:https://vinoycompania.com/wp-content/uploads/2025/02/Ugo-champagne.jpg
ORGANIZER;CN="Vino & Compa%C3%B1ia":MAILTO:catas@vinoycompania.com
END:VEVENT
END:VCALENDAR