BEGIN:VCALENDAR
VERSION:2.0
PRODID:-//Vino y Compañía - ECPv6.15.20//NONSGML v1.0//EN
CALSCALE:GREGORIAN
METHOD:PUBLISH
X-WR-CALNAME:Vino y Compañía
X-ORIGINAL-URL:https://vinoycompania.com
X-WR-CALDESC:Eventos para Vino y Compañía
REFRESH-INTERVAL;VALUE=DURATION:PT1H
X-Robots-Tag:noindex
X-PUBLISHED-TTL:PT1H
BEGIN:VTIMEZONE
TZID:Europe/Madrid
BEGIN:DAYLIGHT
TZOFFSETFROM:+0100
TZOFFSETTO:+0200
TZNAME:CEST
DTSTART:20230326T010000
END:DAYLIGHT
BEGIN:STANDARD
TZOFFSETFROM:+0200
TZOFFSETTO:+0100
TZNAME:CET
DTSTART:20231029T010000
END:STANDARD
BEGIN:DAYLIGHT
TZOFFSETFROM:+0100
TZOFFSETTO:+0200
TZNAME:CEST
DTSTART:20240331T010000
END:DAYLIGHT
BEGIN:STANDARD
TZOFFSETFROM:+0200
TZOFFSETTO:+0100
TZNAME:CET
DTSTART:20241027T010000
END:STANDARD
BEGIN:DAYLIGHT
TZOFFSETFROM:+0100
TZOFFSETTO:+0200
TZNAME:CEST
DTSTART:20250330T010000
END:DAYLIGHT
BEGIN:STANDARD
TZOFFSETFROM:+0200
TZOFFSETTO:+0100
TZNAME:CET
DTSTART:20251026T010000
END:STANDARD
END:VTIMEZONE
BEGIN:VEVENT
DTSTART;TZID=Europe/Madrid:20240919T200000
DTEND;TZID=Europe/Madrid:20240919T220000
DTSTAMP:20260422T123320
CREATED:20240801T111754Z
LAST-MODIFIED:20240904T101523Z
UID:10001240-1726776000-1726783200@vinoycompania.com
SUMMARY:La Grandeza del VINO NATURAL con Jimmy Bubbles.
DESCRIPTION:Hola #winelovers. 🍷✨ ¡Tenemos algo muy especial para vosotros en Vino & Compañía! ✨🍷 \n  \nEl próximo 19 de septiembre a las 20h.\, tendremos una cata única: «La Grandeza del VINO NATURAL» con Jimmy Bubbles. 🍇🌿 \n  \nJimmy Bubbles es un personaje fascinante. Antes de sumergirse en el mundo del vino\, era informático y un apasionado del rap\, pero lo que realmente lo define es su amor incondicional por el vino. Jimmy es\, ante todo\, un bebedor de vino; se lo ha bebido todo. A lo largo de los años\, ha transformado su afición en una auténtica devoción. Compañero de cata de Santi Rivas en numerosas ocasiones\, su curiosidad lo llevó a ser uno de los grandes nombres en el panorama del vino natural. \n  \nJimmy no solo se ha destacado como campeón en el Campeonato de España de cata por equipos en 2019 y como tercer puesto en la Cata por Parejas de Vila Viniteca en 2016\, sino que también ha sido una voz influyente en el famoso blog gastronómico «Con el Morro Fino». Hoy en día\, como responsable comercial en Madrid de Cuvée 3000\, Jimmy sigue haciendo lo que más le apasiona: descubrir\, catar\, y compartir los mejores vinos naturales. 🍷📜 \n  \nLo que más nos gusta de Jimmy es que\, además de su impresionante trayectoria\, es un verdadero catador de vinos. Y en esta cata\, nos traerá una selección personal de vinos\, elegidos con su toque único. 🌿🍷 \n  \n🍷✨ Si buscas una cata que combine terroir\, biodinámica y poca intervención… esta es tu oportunidad. Reserva tu plaza ahora para la cata de vinos Naturales de la que mas se va a hablar… 🍇✨ \n  \n¡Salud! 🍷 \n  \n#VinosNaturales #CataDeVinos #JimmyBubbles #WineLovers #VinoYCompañía
URL:https://vinoycompania.com/eventos/lagrandezadelvinonaturalconjimmybubbles/
LOCATION:Vino & Compañia\, Plaza de Olavide\, 5\, Chamberí\, Madrid\, Madrid\, 28010\, España
CATEGORIES:Cata con Personaje
ATTACH;FMTTYPE=image/jpeg:https://vinoycompania.com/wp-content/uploads/2024/08/Jimmy-Bubbles-.jpg
ORGANIZER;CN="Vino & Compa%C3%B1ia":MAILTO:catas@vinoycompania.com
END:VEVENT
END:VCALENDAR