BEGIN:VCALENDAR
VERSION:2.0
PRODID:-//Vino y Compañía - ECPv6.15.20//NONSGML v1.0//EN
CALSCALE:GREGORIAN
METHOD:PUBLISH
X-ORIGINAL-URL:https://vinoycompania.com
X-WR-CALDESC:Eventos para Vino y Compañía
REFRESH-INTERVAL;VALUE=DURATION:PT1H
X-Robots-Tag:noindex
X-PUBLISHED-TTL:PT1H
BEGIN:VTIMEZONE
TZID:Europe/Madrid
BEGIN:DAYLIGHT
TZOFFSETFROM:+0100
TZOFFSETTO:+0200
TZNAME:CEST
DTSTART:20240331T010000
END:DAYLIGHT
BEGIN:STANDARD
TZOFFSETFROM:+0200
TZOFFSETTO:+0100
TZNAME:CET
DTSTART:20241027T010000
END:STANDARD
BEGIN:DAYLIGHT
TZOFFSETFROM:+0100
TZOFFSETTO:+0200
TZNAME:CEST
DTSTART:20250330T010000
END:DAYLIGHT
BEGIN:STANDARD
TZOFFSETFROM:+0200
TZOFFSETTO:+0100
TZNAME:CET
DTSTART:20251026T010000
END:STANDARD
BEGIN:DAYLIGHT
TZOFFSETFROM:+0100
TZOFFSETTO:+0200
TZNAME:CEST
DTSTART:20260329T010000
END:DAYLIGHT
BEGIN:STANDARD
TZOFFSETFROM:+0200
TZOFFSETTO:+0100
TZNAME:CET
DTSTART:20261025T010000
END:STANDARD
END:VTIMEZONE
BEGIN:VEVENT
DTSTART;TZID=Europe/Madrid:20250619T200000
DTEND;TZID=Europe/Madrid:20250619T220000
DTSTAMP:20260421T211611
CREATED:20250520T121439Z
LAST-MODIFIED:20250520T123315Z
UID:10001348-1750363200-1750370400@vinoycompania.com
SUMMARY:Cata con Norrel Robertson MW: El Escocés Volante aterriza en Vino & Compañía 🍷
DESCRIPTION:📅 Fecha: Jueves 19 de junio de 2025🕗 Hora: 20:00 h📍 Lugar: Sala de Catas de Vino & Compañía\, Plaza de Olavide 5\, Chamberí (Madrid)💶 Precio: 50 € por persona🔒 Plazas limitadas: 36 asistentes \n🌟 Un Master of Wine en nuestra mesa\nRecibir en nuestra sala a Norrel Robertson MW\, conocido como El Escocés Volante\, es un privilegio absoluto. Escocés de nacimiento\, viajero incansable y enamorado de España\, Norrell es uno de los pocos Master of Wine del mundo —la distinción más alta en el universo vinícola— y un referente indiscutible en la interpretación de la garnacha vieja de Aragón. \n🍇 De Calatayud al mundo\, en siete vinos\nEn esta cata única\, recorreremos junto a Norrell siete vinos que condensan su visión\, su carácter y su precisión enológica. Vinos que nacen en suelos extremos\, a gran altitud\, de viñedos antiguos y de mínima intervención\, y que hoy se sirven en más de 30 países. \nLos Protagonistas: \nManga del Brujo Blanco 2023 \nManda Huevos Old Vine Macabeo 2023 \nManga del Brujo Tinto 2022 \nEl Mondongo 2023 \nMarzolin 2022 \nCismático 2020 \nMataquemada 2021 \nCada uno refleja la personalidad vibrante del Escocés Volante y su compromiso con la expresión pura del viñedo aragonés. \n🧠 ¿Qué vas a vivir?\n👨‍🏫 Una cata dirigida por un Master of Wine con más de 30 años de experiencia internacional \n🧭 Un viaje a las garnachas más singulares de Aragón\, contadas por quien las ha rescatado\, defendido y elevado al reconocimiento global \n🍷 Un recorrido por viñedos extremos y uvas con historia\, en vinos que conjugan frescura\, precisión y alma \n  \n📜 Sobre Norrel Robertson MW\nGraduado con distinción en Enología y Viticultura por la Universidad de Lincoln (Nueva Zelanda)\, Norrel ha trabajado en bodegas de medio mundo\, desde Sudáfrica hasta Chile\, pasando por su Escocia natal. En 2003\, se instaló en Calatayud\, donde fundó su proyecto personal: El Escocés Volante\, con 40 hectáreas de viñas viejas y una obsesión: la garnacha como hilo conductor. Hoy\, asesora a bodegas en tres continentes y sus vinos son reconocidos internacionalmente por su autenticidad\, carácter y elegancia. \n🎟 Reserva tu plaza\nSolo 36 personas podrán vivir esta experiencia exclusiva con uno de los grandes nombres del vino.👉 Reserva tu plaza y acompáñanos en un vuelo sin escalas por lo mejor del viñedo aragonés. \n#ElEscocésVolante #NorrelRobertsonMW #CataDeVino #GarnachaPower #WineExperience #VinoYCultura \n\n\n¡Salud! 🍷 \n\n\n¿Te apetece probar lo que bebe un Master of Wine? Nos vemos el 19 de junio en Vino & Compañía.
URL:https://vinoycompania.com/eventos/cata-con-norrel-robertson-mw-el-escoces-volante-aterriza-en-vino-compania-%f0%9f%8d%b7/
LOCATION:Vino & Compañia\, Plaza de Olavide\, 5\, Chamberí\, Madrid\, Madrid\, 28010\, España
CATEGORIES:Cata con Personaje
ATTACH;FMTTYPE=image/jpeg:https://vinoycompania.com/wp-content/uploads/2025/05/norrel@miretfotografo_Escoces-Volante_Retratos-en-Vina_27.jpg
ORGANIZER;CN="Vino & Compa%C3%B1ia":MAILTO:catas@vinoycompania.com
END:VEVENT
END:VCALENDAR