BEGIN:VCALENDAR
VERSION:2.0
PRODID:-//Vino y Compañía - ECPv6.15.20//NONSGML v1.0//EN
CALSCALE:GREGORIAN
METHOD:PUBLISH
X-ORIGINAL-URL:https://vinoycompania.com
X-WR-CALDESC:Eventos para Vino y Compañía
REFRESH-INTERVAL;VALUE=DURATION:PT1H
X-Robots-Tag:noindex
X-PUBLISHED-TTL:PT1H
BEGIN:VTIMEZONE
TZID:Europe/Madrid
BEGIN:DAYLIGHT
TZOFFSETFROM:+0100
TZOFFSETTO:+0200
TZNAME:CEST
DTSTART:20230326T010000
END:DAYLIGHT
BEGIN:STANDARD
TZOFFSETFROM:+0200
TZOFFSETTO:+0100
TZNAME:CET
DTSTART:20231029T010000
END:STANDARD
BEGIN:DAYLIGHT
TZOFFSETFROM:+0100
TZOFFSETTO:+0200
TZNAME:CEST
DTSTART:20240331T010000
END:DAYLIGHT
BEGIN:STANDARD
TZOFFSETFROM:+0200
TZOFFSETTO:+0100
TZNAME:CET
DTSTART:20241027T010000
END:STANDARD
BEGIN:DAYLIGHT
TZOFFSETFROM:+0100
TZOFFSETTO:+0200
TZNAME:CEST
DTSTART:20250330T010000
END:DAYLIGHT
BEGIN:STANDARD
TZOFFSETFROM:+0200
TZOFFSETTO:+0100
TZNAME:CET
DTSTART:20251026T010000
END:STANDARD
END:VTIMEZONE
BEGIN:VEVENT
DTSTART;TZID=Europe/Madrid:20241003T200000
DTEND;TZID=Europe/Madrid:20241003T220000
DTSTAMP:20260422T081221
CREATED:20240726T101258Z
LAST-MODIFIED:20241003T163629Z
UID:10001239-1727985600-1727992800@vinoycompania.com
SUMMARY:VISTOS A CIEGAS (Una selección personal de vinos que\, por la razón que sea\, hemos conseguido acertar en algún momento) con Alberto Ruffoni!!!
DESCRIPTION:Vistos a Ciegas (Una selección personal de vinos que\, por la razón que sea\, hemos conseguido acertar en algún momento) con Alberto Ruffoni!!! \n  \nHola #winelovers! 🍷✨ Soy Alberto Ruffoni y estoy encantado de invitaros a una cata muy especial en Vino & Compañía. ✨🍷 \n  \nEl próximo 3 de octubre a las 20h.\, os espero para un evento que me hace mucha ilusión: «Vistos a Ciegas». Durante esta cata\, exploraremos juntos una selección de vinos excepcionales que he tenido la suerte de descubrir y acertar a lo largo de mi carrera. 🍇🌿 \n  \nAlberto Ruffoni tiene una trayectoria impresionante en el mundo del vino. Ha ganado el Concurso de Cata por Parejas de Vilaviniteca y fue el primer Spanish Wine Master. Ha trabajado en instituciones prestigiosas del mundo del vino como la Guía Peñín\, La Caníbal\, Vino & Compañía y Robuchon\, entre otras. También ha sido jurado en los premios decanter world wine awards 2024 en Londres. Actualmente\, escribe en el periódico El País. 🍷📜 \n  \nImagina una velada donde degustaremos vinos seleccionados por Alberto que por sus características únicas y las historias que encierran acertó a ciegas en algún momento. 🌿🍷 \n  \nSi te apasiona el vino y quieres formar parte de esta experiencia única\, te invito a reservar una plaza en la cata que mas va a sonar en el mundo del #wineloverismo. Las plazas son limitadas y estoy seguro de que este evento será inolvidable. ¡Nos vemos el 3 de octubre! 🍇✨ \n  \n¡Salud! 🍷 \n  \n#VinosACiegas #CataDeVinos #AlbertoRuffoni #WineLovers #VinoYCompañía #CatasdevinoenMadrid
URL:https://vinoycompania.com/eventos/vistos-a-ciegas-una-seleccion-personal-de-vinos-que-por-la-razon-que-sea-hemos-conseguido-acertar-en-algun-momento-con-alberto-ruffoni/
LOCATION:Vino & Compañia\, Plaza de Olavide\, 5\, Chamberí\, Madrid\, Madrid\, 28010\, España
CATEGORIES:Cata con Personaje
ATTACH;FMTTYPE=image/jpeg:https://vinoycompania.com/wp-content/uploads/2024/07/ruffoni-2.jpg
ORGANIZER;CN="Vino & Compa%C3%B1ia":MAILTO:catas@vinoycompania.com
END:VEVENT
BEGIN:VEVENT
DTSTART;TZID=Europe/Madrid:20241009T200000
DTEND;TZID=Europe/Madrid:20241009T220000
DTSTAMP:20260422T081221
CREATED:20240911T121354Z
LAST-MODIFIED:20241009T165511Z
UID:10001261-1728504000-1728511200@vinoycompania.com
SUMMARY:Maison Paul Jaboulet Aîné
DESCRIPTION:¡HOLA #winelovers! 🌟 \n  \nEl miércoles 9 de octubre a las 20h. tenemos una cata muy especial en Vino & Compañía. Nos visita Gwen Chesnais\, directora comercial internacional de la mítica bodega Maison Paul Jaboulet Aîné\, una leyenda en el norte del Valle del Ródano\, fundada en el año 1834 por Antoine Jaboulet en la colina de l’Hermitage.  🌱 \n  \nVamos a catar seis grandes joyas: \n  \n\nCondrieu Grands Amaniers 2020 → 106\,90 €\nSaint Joseph Croit des Vignes 2016 → 93\,90 €\nCornas Domaine de Saint Pierre 2016 → 106\,90 €\nCrozes Hermitage Domaine de Thalabert 2012 → 84\,90 €\nHermitage La Maison Bleue 2015 → 170\,90 €\nCôte Rotie Les Pierrelles 2010 → 170\,90 €\n\n  \nCada una de estas etiquetas es una oportunidad única para descubrir una de las bodegas más icónicas del mundo. 🌎 \n  \nMaison Paul Jaboulet Aîné es una bodega con casi dos siglos de historia\, famosa por su inigualable Hermitage «La Chapelle»\, un vino que alcanzó la fama internacional gracias a Paul Jaboulet\, hijo del fundador.  🍇 \n  \n¿Te imaginas estar degustando estos vinos únicos mientras descubres los secretos de esta histórica bodega? ✨ \n  \nPara asegurar tu plaza en esta exclusiva cata\, entra en nuestra web http://vinoycompania.com/catas y ¡haz tu reserva antes de que se agoten las plazas! 🗓️ \n  \n¡Salud! 🍷 \n  \n#CataVino #Jaboulet #VinosDelRodano #CataExclusiva #Hermitage #VinosDeLeyenda #VinoYCompañía #CulturaDelVino #CataPrivada
URL:https://vinoycompania.com/eventos/cata-de-vinos-de-la-maison-paul-jaboulet-aine-bodega-icono-del-rodano/
LOCATION:Vino & Compañia\, Plaza de Olavide\, 5\, Chamberí\, Madrid\, Madrid\, 28010\, España
CATEGORIES:Cata con Personaje
ATTACH;FMTTYPE=image/jpeg:https://vinoycompania.com/wp-content/uploads/2024/09/IMG_9292-scaled.jpg
ORGANIZER;CN="Vino & Compa%C3%B1ia":MAILTO:catas@vinoycompania.com
END:VEVENT
BEGIN:VEVENT
DTSTART;TZID=Europe/Madrid:20241017T200000
DTEND;TZID=Europe/Madrid:20241017T220000
DTSTAMP:20260422T081221
CREATED:20240829T112433Z
LAST-MODIFIED:20241016T184008Z
UID:10001260-1729195200-1729202400@vinoycompania.com
SUMMARY:Los Vinos de Adrián (ITHACA WINES)\, Un Viaje al Corazón del Vino Mediterráneo
DESCRIPTION:El próximo 17 de octubre a las 20h.\, en Vino & Compañía\, te invitamos a «Los Vinos de Adrián (ITHACA WINES)\, Un Viaje al Corazón del Vino Mediterráneo». 🌊🍇 \n  \nAdrián\, lleva ya casi una década dedicada al mundo del vino. Ejerció como sumiller en restaurantes de renombre a nivel nacional\, como el Celler de Can Roca y luego siendo el director de bodega de Martin Berasategui en el País Vasco. Tras su paso por estas salas tan importantes\, donde obtuvo un conocimiento notable del sector vitivinícola\, se aventuró a trabajar en la distribución donde a día de hoy es junto a Bernat Voraviu\, sumiller del restaurante Alkimia de Barcelona\, el alma de ITHACA WINES en Madrid. \n¿Qué es Ithaca Wines? \nPor encima de todo\, una intención! La de hacer llegar la esencia del vino mediterráneo “fino”\, a los amantes de las grandes botellas! Ithaca es descubrir la historia y recorrido del vino\, a través de los mejores exponentes de cada región mediterránea. \nEn esta cata exclusiva\, tendrás la oportunidad de degustar una selección especial de estos vinos\, cada uno con su propia historia y conexión con la tierra mediterránea. Adrián te llevará en un viaje sensorial\, explorando los sabores y aromas que hacen de estos vinos algo verdaderamente excepcional. \n  \nLos protagonistas son: \n\nEntrealdeas Las Travinas … 22.90€\nKaramolegos Pyritis … 54.50€\nGael Petit Falaises de Braises … 21.90€\nAntoine Clavel Garnacha … 23.50€\nVinas Mora Kaamen II … 41.90€\nLa Visciola Mozzatta … 46.90€\n\n  \n¡No te pierdas esta oportunidad única de descubrir y disfrutar de estos vinos seleccionados con tanto mimo! \n  \n¡Salud! 🍷 \n  \n#WineLovers \n#VinoMediterráneo \n#CataConPersonaje \n#VinosFrescos \n#VinosConPersonalidad \n#ReservaTuPlaza \n#vinoycompania
URL:https://vinoycompania.com/eventos/los-vinos-de-adrian-un-viaje-al-corazon-del-vino-mediterraneo-cata-de-vinos-en-madrid/
LOCATION:Vino & Compañia\, Plaza de Olavide\, 5\, Chamberí\, Madrid\, Madrid\, 28010\, España
CATEGORIES:Cata con Personaje
ATTACH;FMTTYPE=image/jpeg:https://vinoycompania.com/wp-content/uploads/2024/08/Adrian.jpg
ORGANIZER;CN="Vino & Compa%C3%B1ia":MAILTO:catas@vinoycompania.com
END:VEVENT
END:VCALENDAR